BEGIN:VCALENDAR
VERSION:2.0
PRODID:-//Prairie Dog Brewing - ECPv6.15.20//NONSGML v1.0//EN
CALSCALE:GREGORIAN
METHOD:PUBLISH
X-ORIGINAL-URL:https://prairiedog.bbq.beer
X-WR-CALDESC:Events for Prairie Dog Brewing
REFRESH-INTERVAL;VALUE=DURATION:PT1H
X-Robots-Tag:noindex
X-PUBLISHED-TTL:PT1H
BEGIN:VTIMEZONE
TZID:America/Edmonton
BEGIN:DAYLIGHT
TZOFFSETFROM:-0700
TZOFFSETTO:-0600
TZNAME:MDT
DTSTART:20240310T090000
END:DAYLIGHT
BEGIN:STANDARD
TZOFFSETFROM:-0600
TZOFFSETTO:-0700
TZNAME:MST
DTSTART:20241103T080000
END:STANDARD
BEGIN:DAYLIGHT
TZOFFSETFROM:-0700
TZOFFSETTO:-0600
TZNAME:MDT
DTSTART:20250309T090000
END:DAYLIGHT
BEGIN:STANDARD
TZOFFSETFROM:-0600
TZOFFSETTO:-0700
TZNAME:MST
DTSTART:20251102T080000
END:STANDARD
BEGIN:DAYLIGHT
TZOFFSETFROM:-0700
TZOFFSETTO:-0600
TZNAME:MDT
DTSTART:20260308T090000
END:DAYLIGHT
BEGIN:STANDARD
TZOFFSETFROM:-0600
TZOFFSETTO:-0700
TZNAME:MST
DTSTART:20261101T080000
END:STANDARD
END:VTIMEZONE
BEGIN:VEVENT
DTSTART;TZID=America/Edmonton:20251025T180000
DTEND;TZID=America/Edmonton:20251025T210000
DTSTAMP:20260423T032507
CREATED:20251024T022046Z
LAST-MODIFIED:20251024T022227Z
UID:10000435-1761415200-1761426000@prairiedog.bbq.beer
SUMMARY:Watch the Blue Jays play the World Series at Prairie Dog Brewing: Game 2
DESCRIPTION:32 years in the making.\nSaturday\, October 25th\, the Jays are back and we’re turning Prairie Dog into the ultimate watch spot. \nEvery TV\, Every Speaker\, every cheer. Good beer\, good food\, good ball.\nEvery Blue Jays game will be shown at prairie Dog\, so reserve your spots now!
URL:https://prairiedog.bbq.beer/event/watch-the-blue-jays-play-the-world-series-at-prairie-dog-brewing-2/
LOCATION:Prairie Dog Brewpub – Calgary Chinook\, 105D 58 Ave SE\, Calgary\, AB\, T2H 0N8\, Canada
CATEGORIES:In-Pub Entertainment
ATTACH;FMTTYPE=image/png:https://prairiedog.bbq.beer/wp-content/uploads/2025/10/Screenshot-35.png
ORGANIZER;CN="Prairie Dog Brewing Music Team":MAILTO:music@bbq.beer
END:VEVENT
END:VCALENDAR