BEGIN:VCALENDAR
VERSION:2.0
PRODID:-//Prairie Dog Brewing - ECPv6.15.20//NONSGML v1.0//EN
CALSCALE:GREGORIAN
METHOD:PUBLISH
X-WR-CALNAME:Prairie Dog Brewing
X-ORIGINAL-URL:https://prairiedog.bbq.beer
X-WR-CALDESC:Events for Prairie Dog Brewing
REFRESH-INTERVAL;VALUE=DURATION:PT1H
X-Robots-Tag:noindex
X-PUBLISHED-TTL:PT1H
BEGIN:VTIMEZONE
TZID:America/Edmonton
BEGIN:DAYLIGHT
TZOFFSETFROM:-0700
TZOFFSETTO:-0600
TZNAME:MDT
DTSTART:20240310T090000
END:DAYLIGHT
BEGIN:STANDARD
TZOFFSETFROM:-0600
TZOFFSETTO:-0700
TZNAME:MST
DTSTART:20241103T080000
END:STANDARD
BEGIN:DAYLIGHT
TZOFFSETFROM:-0700
TZOFFSETTO:-0600
TZNAME:MDT
DTSTART:20250309T090000
END:DAYLIGHT
BEGIN:STANDARD
TZOFFSETFROM:-0600
TZOFFSETTO:-0700
TZNAME:MST
DTSTART:20251102T080000
END:STANDARD
BEGIN:DAYLIGHT
TZOFFSETFROM:-0700
TZOFFSETTO:-0600
TZNAME:MDT
DTSTART:20260308T090000
END:DAYLIGHT
BEGIN:STANDARD
TZOFFSETFROM:-0600
TZOFFSETTO:-0700
TZNAME:MST
DTSTART:20261101T080000
END:STANDARD
END:VTIMEZONE
BEGIN:VEVENT
DTSTART;TZID=America/Edmonton:20251114T200000
DTEND;TZID=America/Edmonton:20251114T230000
DTSTAMP:20260421T224851
CREATED:20251002T023425Z
LAST-MODIFIED:20251002T023425Z
UID:10000424-1763150400-1763161200@prairiedog.bbq.beer
SUMMARY:Live On Stage: The Kimberlites
DESCRIPTION:The Kimberlites are a must-see Calgary band for fans of Celtic\, Cajun\, and Zydeco. This fusion creates what can only be described as a musical jambalaya\, a sensory feast that is both exhilarating and deeply moving. They feature an electric accordion\, and great harmonies backed by a four or five-piece band. Their set is full of songs that get you tapping you foot\, and inspire many fans to get up and dance.  \nThis may be your new favourite Calgary band! Come check them out and try some of our new rotating taps while you’re here!
URL:https://prairiedog.bbq.beer/event/live-on-stage-the-kimberlites-3/
LOCATION:Prairie Dog Brewpub – Calgary Chinook\, 105D 58 Ave SE\, Calgary\, AB\, T2H 0N8\, Canada
CATEGORIES:Live Music
ATTACH;FMTTYPE=image/png:https://prairiedog.bbq.beer/wp-content/uploads/2025/02/Kimberlites-PaddysDay2-e1772134084118.png
ORGANIZER;CN="Prairie Dog Brewing Music Team":MAILTO:music@bbq.beer
END:VEVENT
END:VCALENDAR