BEGIN:VCALENDAR
VERSION:2.0
PRODID:-//Prairie Dog Brewing - ECPv6.15.20//NONSGML v1.0//EN
CALSCALE:GREGORIAN
METHOD:PUBLISH
X-WR-CALNAME:Prairie Dog Brewing
X-ORIGINAL-URL:https://prairiedog.bbq.beer
X-WR-CALDESC:Events for Prairie Dog Brewing
REFRESH-INTERVAL;VALUE=DURATION:PT1H
X-Robots-Tag:noindex
X-PUBLISHED-TTL:PT1H
BEGIN:VTIMEZONE
TZID:America/Edmonton
BEGIN:DAYLIGHT
TZOFFSETFROM:-0700
TZOFFSETTO:-0600
TZNAME:MDT
DTSTART:20250309T090000
END:DAYLIGHT
BEGIN:STANDARD
TZOFFSETFROM:-0600
TZOFFSETTO:-0700
TZNAME:MST
DTSTART:20251102T080000
END:STANDARD
BEGIN:DAYLIGHT
TZOFFSETFROM:-0700
TZOFFSETTO:-0600
TZNAME:MDT
DTSTART:20260308T090000
END:DAYLIGHT
BEGIN:STANDARD
TZOFFSETFROM:-0600
TZOFFSETTO:-0700
TZNAME:MST
DTSTART:20261101T080000
END:STANDARD
BEGIN:DAYLIGHT
TZOFFSETFROM:-0700
TZOFFSETTO:-0600
TZNAME:MDT
DTSTART:20270314T090000
END:DAYLIGHT
BEGIN:STANDARD
TZOFFSETFROM:-0600
TZOFFSETTO:-0700
TZNAME:MST
DTSTART:20271107T080000
END:STANDARD
END:VTIMEZONE
BEGIN:VEVENT
DTSTART;TZID=America/Edmonton:20260313T190000
DTEND;TZID=America/Edmonton:20260313T220000
DTSTAMP:20260420T232541
CREATED:20260123T215315Z
LAST-MODIFIED:20260123T215315Z
UID:10000466-1773428400-1773439200@prairiedog.bbq.beer
SUMMARY:Live On Stage: Tory Rosso
DESCRIPTION:“Rumour has it that listening to Tory Rosso is like stepping into the quiet magic of a midsummer’s eve—the air still warm\, the sky painted with the soft hues of dawn.”  \nTory Rosso is returning to the Prairie Dog Stage to perform a vast catalogue of rock\, alt-country\, pop covers\, and nice collection of originals as well. His signature smooth style and chill vibes create the perfect solo show for a relaxing evening on a Friday night. He has performed all throughout Canada with his other bands\, and this is a rare chance to catch him back in Calgary in a fun\, family-friendly performance!
URL:https://prairiedog.bbq.beer/event/live-on-stage-tory-rosso-2/
LOCATION:Prairie Dog Brewpub – Calgary Chinook\, 105D 58 Ave SE\, Calgary\, AB\, T2H 0N8\, Canada
CATEGORIES:Live Music
ATTACH;FMTTYPE=image/png:https://prairiedog.bbq.beer/wp-content/uploads/2025/04/ToryRosso1.png
ORGANIZER;CN="Prairie Dog Brewing Music Team":MAILTO:music@bbq.beer
END:VEVENT
END:VCALENDAR