BEGIN:VCALENDAR
VERSION:2.0
PRODID:-//Prairie Dog Brewing - ECPv6.15.20//NONSGML v1.0//EN
CALSCALE:GREGORIAN
METHOD:PUBLISH
X-WR-CALNAME:Prairie Dog Brewing
X-ORIGINAL-URL:https://prairiedog.bbq.beer
X-WR-CALDESC:Events for Prairie Dog Brewing
REFRESH-INTERVAL;VALUE=DURATION:PT1H
X-Robots-Tag:noindex
X-PUBLISHED-TTL:PT1H
BEGIN:VTIMEZONE
TZID:America/Edmonton
BEGIN:DAYLIGHT
TZOFFSETFROM:-0700
TZOFFSETTO:-0600
TZNAME:MDT
DTSTART:20250309T090000
END:DAYLIGHT
BEGIN:STANDARD
TZOFFSETFROM:-0600
TZOFFSETTO:-0700
TZNAME:MST
DTSTART:20251102T080000
END:STANDARD
BEGIN:DAYLIGHT
TZOFFSETFROM:-0700
TZOFFSETTO:-0600
TZNAME:MDT
DTSTART:20260308T090000
END:DAYLIGHT
BEGIN:STANDARD
TZOFFSETFROM:-0600
TZOFFSETTO:-0700
TZNAME:MST
DTSTART:20261101T080000
END:STANDARD
BEGIN:DAYLIGHT
TZOFFSETFROM:-0700
TZOFFSETTO:-0600
TZNAME:MDT
DTSTART:20270314T090000
END:DAYLIGHT
BEGIN:STANDARD
TZOFFSETFROM:-0600
TZOFFSETTO:-0700
TZNAME:MST
DTSTART:20271107T080000
END:STANDARD
END:VTIMEZONE
BEGIN:VEVENT
DTSTART;TZID=America/Edmonton:20260613T190000
DTEND;TZID=America/Edmonton:20260613T220000
DTSTAMP:20260419T194002
CREATED:20260323T181849Z
LAST-MODIFIED:20260323T181849Z
UID:10000581-1781377200-1781388000@prairiedog.bbq.beer
SUMMARY:Live On Stage: Joey Pringle
DESCRIPTION:Manitoba born Metis\, Joey Pringle\, is a Canadian Singer-Songwriter with a soulful\, Country-Blues style of playing . He has been in multiple entertainment magazines\, graced 3 of their covers\, and has had 2 original songs picked up by an Alberta film winning him Best Music Awards in both LA and Europe. His incredible voice and excellent guitar work make for a perfect solo set to relax to on a Friday night.
URL:https://prairiedog.bbq.beer/event/live-on-stage-joey-pringle-9/
LOCATION:Prairie Dog Brewpub – Calgary Chinook\, 105D 58 Ave SE\, Calgary\, AB\, T2H 0N8\, Canada
CATEGORIES:Live Music
ATTACH;FMTTYPE=image/jpeg:https://prairiedog.bbq.beer/wp-content/uploads/2024/09/joeypringle2.jpg
ORGANIZER;CN="Prairie Dog Brewing Music Team":MAILTO:music@bbq.beer
END:VEVENT
END:VCALENDAR