BEGIN:VCALENDAR
VERSION:2.0
PRODID:-//Prairie Dog Brewing - ECPv6.15.20//NONSGML v1.0//EN
CALSCALE:GREGORIAN
METHOD:PUBLISH
X-WR-CALNAME:Prairie Dog Brewing
X-ORIGINAL-URL:https://prairiedog.bbq.beer
X-WR-CALDESC:Events for Prairie Dog Brewing
REFRESH-INTERVAL;VALUE=DURATION:PT1H
X-Robots-Tag:noindex
X-PUBLISHED-TTL:PT1H
BEGIN:VTIMEZONE
TZID:America/Edmonton
BEGIN:DAYLIGHT
TZOFFSETFROM:-0700
TZOFFSETTO:-0600
TZNAME:MDT
DTSTART:20250309T090000
END:DAYLIGHT
BEGIN:STANDARD
TZOFFSETFROM:-0600
TZOFFSETTO:-0700
TZNAME:MST
DTSTART:20251102T080000
END:STANDARD
BEGIN:DAYLIGHT
TZOFFSETFROM:-0700
TZOFFSETTO:-0600
TZNAME:MDT
DTSTART:20260308T090000
END:DAYLIGHT
BEGIN:STANDARD
TZOFFSETFROM:-0600
TZOFFSETTO:-0700
TZNAME:MST
DTSTART:20261101T080000
END:STANDARD
BEGIN:DAYLIGHT
TZOFFSETFROM:-0700
TZOFFSETTO:-0600
TZNAME:MDT
DTSTART:20270314T090000
END:DAYLIGHT
BEGIN:STANDARD
TZOFFSETFROM:-0600
TZOFFSETTO:-0700
TZNAME:MST
DTSTART:20271107T080000
END:STANDARD
END:VTIMEZONE
BEGIN:VEVENT
DTSTART;TZID=America/Edmonton:20260710T200000
DTEND;TZID=America/Edmonton:20260710T230000
DTSTAMP:20260420T232623
CREATED:20260414T195611Z
LAST-MODIFIED:20260414T195611Z
UID:10000593-1783713600-1783724400@prairiedog.bbq.beer
SUMMARY:Live On Stage: Alicyn Campbell Band
DESCRIPTION:Alicyn Campbell is a local singer and musician based in Millarville\, Alberta. Her four piece band plays something for everyone: A blend of that OG country sound we all know and love\, with the flare of southern rock and the odd pop and alternative influence. The simplicity of songwriting coming to life and performing original content brought them together to form the Alicyn Campbell Band in 2023. The mix of covers and originals range from stories about life in the western Foothills\, to heartbreak\, and all in between.  \nThis is a feature Stampede show\, so bring your best cowpoke fits\, and get ready to two-step up a storm! \nCheck out her Instagram @alicyncampbell
URL:https://prairiedog.bbq.beer/event/live-on-stage-alicyn-campbell-band/
LOCATION:Prairie Dog Brewpub – Calgary Chinook\, 105D 58 Ave SE\, Calgary\, AB\, T2H 0N8\, Canada
CATEGORIES:Live Music
ORGANIZER;CN="Prairie Dog Brewing Music Team":MAILTO:music@bbq.beer
END:VEVENT
END:VCALENDAR