BEGIN:VCALENDAR
VERSION:2.0
PRODID:-//Prairie Dog Brewing - ECPv6.15.20//NONSGML v1.0//EN
CALSCALE:GREGORIAN
METHOD:PUBLISH
X-ORIGINAL-URL:https://prairiedog.bbq.beer
X-WR-CALDESC:Events for Prairie Dog Brewing
REFRESH-INTERVAL;VALUE=DURATION:PT1H
X-Robots-Tag:noindex
X-PUBLISHED-TTL:PT1H
BEGIN:VTIMEZONE
TZID:America/Edmonton
BEGIN:DAYLIGHT
TZOFFSETFROM:-0700
TZOFFSETTO:-0600
TZNAME:MDT
DTSTART:20240310T090000
END:DAYLIGHT
BEGIN:STANDARD
TZOFFSETFROM:-0600
TZOFFSETTO:-0700
TZNAME:MST
DTSTART:20241103T080000
END:STANDARD
BEGIN:DAYLIGHT
TZOFFSETFROM:-0700
TZOFFSETTO:-0600
TZNAME:MDT
DTSTART:20250309T090000
END:DAYLIGHT
BEGIN:STANDARD
TZOFFSETFROM:-0600
TZOFFSETTO:-0700
TZNAME:MST
DTSTART:20251102T080000
END:STANDARD
BEGIN:DAYLIGHT
TZOFFSETFROM:-0700
TZOFFSETTO:-0600
TZNAME:MDT
DTSTART:20260308T090000
END:DAYLIGHT
BEGIN:STANDARD
TZOFFSETFROM:-0600
TZOFFSETTO:-0700
TZNAME:MST
DTSTART:20261101T080000
END:STANDARD
BEGIN:DAYLIGHT
TZOFFSETFROM:-0700
TZOFFSETTO:-0600
TZNAME:MDT
DTSTART:20270314T090000
END:DAYLIGHT
BEGIN:STANDARD
TZOFFSETFROM:-0600
TZOFFSETTO:-0700
TZNAME:MST
DTSTART:20271107T080000
END:STANDARD
END:VTIMEZONE
BEGIN:VEVENT
DTSTART;TZID=America/Edmonton:20251231T190000
DTEND;TZID=America/Edmonton:20260101T010000
DTSTAMP:20260424T165533
CREATED:20251209T192459Z
LAST-MODIFIED:20251209T192459Z
UID:10000445-1767207600-1767229200@prairiedog.bbq.beer
SUMMARY:New Year's Eve at Prairie Dog Brewing
DESCRIPTION:Welcome to WILDCARD NYE At Prairie Dog Brewing! Join us on December 31\, 2025 at 7:00 PM for a night to remember! Let’s toast to new beginnings\, good times\, and great beer. Don’t miss out on the fun and excitement as we countdown to midnight. \nYou’ll begin your evening with a four course meal expertly created by our kitchen team\, then get your groove on with Calgary’s party band WildCard starting at 9:00pm. The evening also includes a build your own late night poutine bar! \nDate: December 31\, 2025 with seatings at 7:00pm\, 7:30pm and 8:00pm \nComing out with your besties? We encourage you to order your tickets all together so we can seat you all together – Groups of 8 or more who purchase on one order will get a complimentary bottle of bubbles for your table! \n*While we will do our best\, we cannot guarantee seating together for groups who purchase tickets individually. \n*Dance only tickets valid after 9:00pm and does not guarantee seating.
URL:https://prairiedog.bbq.beer/event/new-years-eve-at-prairie-dog-brewing/
LOCATION:Prairie Dog Brewpub – Calgary Chinook\, 105D 58 Ave SE\, Calgary\, AB\, T2H 0N8\, Canada
CATEGORIES:In-Pub Entertainment,Live Music
ATTACH;FMTTYPE=image/png:https://prairiedog.bbq.beer/wp-content/uploads/2025/12/NYE-At-Prairie-Dog-Brewing.png
ORGANIZER;CN="Prairie Dog Brewing Events Team":MAILTO:events@prairiedogbrewing.ca
END:VEVENT
BEGIN:VEVENT
DTSTART;TZID=America/Edmonton:20260102T190000
DTEND;TZID=America/Edmonton:20260102T220000
DTSTAMP:20260424T165533
CREATED:20251228T000658Z
LAST-MODIFIED:20251228T000658Z
UID:10000448-1767380400-1767391200@prairiedog.bbq.beer
SUMMARY:Live On Stage: Big D
DESCRIPTION:Big D was the lead singer and bass player for local rock band The Jack Butler Society for 10 years! Nowadays you can find him performing solo acoustic shows around Calgary. Come and check out his unique acoustic rock and roll show\, his awesome personality\, and his excellent vocals in a fun show of nostalgic cover songs.
URL:https://prairiedog.bbq.beer/event/live-on-stage-big-d-4/
LOCATION:Prairie Dog Brewpub – Calgary Chinook\, 105D 58 Ave SE\, Calgary\, AB\, T2H 0N8\, Canada
CATEGORIES:Live Music
ATTACH;FMTTYPE=image/png:https://prairiedog.bbq.beer/wp-content/uploads/2025/05/Screenshot-32.png
ORGANIZER;CN="Prairie Dog Brewing Music Team":MAILTO:music@bbq.beer
END:VEVENT
BEGIN:VEVENT
DTSTART;TZID=America/Edmonton:20260103T190000
DTEND;TZID=America/Edmonton:20260103T220000
DTSTAMP:20260424T165533
CREATED:20251228T000829Z
LAST-MODIFIED:20251228T000829Z
UID:10000449-1767466800-1767477600@prairiedog.bbq.beer
SUMMARY:Live On Stage: Daron Schofield
DESCRIPTION:Daron Schofield brings a dynamic and heartfelt energy to the stage with every solo acoustic performance. Blending the storytelling soul of country\, the anthemic edge of rock\, the catchy hooks of pop\, with a funky edge\, his sets are as versatile as they are captivating. Whether it’s a stripped down ballad or an upbeat crowd pleaser\, Daron’s voice and guitar deliver a powerful\, intimate vibe that connects with any audience.
URL:https://prairiedog.bbq.beer/event/live-on-stage-daron-schofield-2/
LOCATION:Prairie Dog Brewpub – Calgary Chinook\, 105D 58 Ave SE\, Calgary\, AB\, T2H 0N8\, Canada
CATEGORIES:Live Music
ATTACH;FMTTYPE=image/png:https://prairiedog.bbq.beer/wp-content/uploads/2025/07/Daron2.png
ORGANIZER;CN="Prairie Dog Brewing Music Team":MAILTO:music@bbq.beer
END:VEVENT
BEGIN:VEVENT
DTSTART;TZID=America/Edmonton:20260109T190000
DTEND;TZID=America/Edmonton:20260109T220000
DTSTAMP:20260424T165533
CREATED:20251228T000920Z
LAST-MODIFIED:20251228T000920Z
UID:10000450-1767985200-1767996000@prairiedog.bbq.beer
SUMMARY:Live On Stage: Ross Fizzard
DESCRIPTION:Ross Fizzard is a country singer and songwriter recently returned from his 2024 Summer Tour with his band The Gardeners.\n“Harkening back to the days of harmony driven vocals\, steel -stringed rhythms\, and melodies percolating out of a Mississippi Saxophone\,… taking this sound and modernizing it.”\nHe puts on a great solo show with an impressive range of original material and covers by your favorite country artists! You can find Ross Fizzard or The Gardeners on Spotify\, Instagram\, or You Tube to check out some of their original songs before the show! \nIt’s a free show so take advantage of this chance to see an awesome rising star in a solo performance!
URL:https://prairiedog.bbq.beer/event/live-on-stage-ross-fizzard-6/
LOCATION:Prairie Dog Brewpub – Calgary Chinook\, 105D 58 Ave SE\, Calgary\, AB\, T2H 0N8\, Canada
CATEGORIES:In-Pub Entertainment,Live Music
ATTACH;FMTTYPE=image/png:https://prairiedog.bbq.beer/wp-content/uploads/2024/11/Ross-Fizzard-The-Gardeners.png
ORGANIZER;CN="Prairie Dog Brewing Music Team":MAILTO:music@bbq.beer
END:VEVENT
BEGIN:VEVENT
DTSTART;TZID=America/Edmonton:20260110T190000
DTEND;TZID=America/Edmonton:20260110T220000
DTSTAMP:20260424T165533
CREATED:20260103T232024Z
LAST-MODIFIED:20260103T232024Z
UID:10000456-1768071600-1768082400@prairiedog.bbq.beer
SUMMARY:Live On Stage: Dusted Sunday
DESCRIPTION:A bold and robust\, full bodied acoustic set with the ability to hit you in the feels\, or melt your brain. This talented musician has played shows all around Alberta\, and enjoys being part of a Foo Fighter’s tribute band in his spare time. From rockin’ covers to powerful originals\, Dusted Sunday’s diverse set lists have something for everyone.
URL:https://prairiedog.bbq.beer/event/live-on-stage-dusted-sunday-3/
LOCATION:Prairie Dog Brewpub – Calgary Chinook\, 105D 58 Ave SE\, Calgary\, AB\, T2H 0N8\, Canada
CATEGORIES:Live Music
ATTACH;FMTTYPE=image/jpeg:https://prairiedog.bbq.beer/wp-content/uploads/2025/03/Screenshot_20241107_092116_YouCut-Video-Editor-2.jpg
ORGANIZER;CN="Prairie Dog Brewing Music Team":MAILTO:music@bbq.beer
END:VEVENT
BEGIN:VEVENT
DTSTART;TZID=America/Edmonton:20260116T190000
DTEND;TZID=America/Edmonton:20260116T220000
DTSTAMP:20260424T165533
CREATED:20251228T001011Z
LAST-MODIFIED:20251228T001011Z
UID:10000451-1768590000-1768600800@prairiedog.bbq.beer
SUMMARY:Live On Stage: Grant Kanigan
DESCRIPTION:Listen to Grant Kanigan’s powerful vocals backed by his lively looping acoustic guitar tones while you enjoy dinner and drinks at our Calgary Chinook Brewpub! Check out this short video from a prior time that Grant played our stage. This will be a solo performance with lots of soul!
URL:https://prairiedog.bbq.beer/event/live-on-stage-grant-kanigan-2/
LOCATION:Prairie Dog Brewpub – Calgary Chinook\, 105D 58 Ave SE\, Calgary\, AB\, T2H 0N8\, Canada
CATEGORIES:Live Music
ATTACH;FMTTYPE=image/jpeg:https://prairiedog.bbq.beer/wp-content/uploads/2024/07/Grant-Kanigan.jpg
ORGANIZER;CN="Prairie Dog Brewing Music Team":MAILTO:music@bbq.beer
END:VEVENT
BEGIN:VEVENT
DTSTART;TZID=America/Edmonton:20260117T190000
DTEND;TZID=America/Edmonton:20260117T220000
DTSTAMP:20260424T165533
CREATED:20260103T205251Z
LAST-MODIFIED:20260103T205251Z
UID:10000454-1768676400-1768687200@prairiedog.bbq.beer
SUMMARY:Live On Stage: Daniel Hanrahan
DESCRIPTION:Local Calgary musician\, Daniel Hanrahan\, puts on a great solo performance perfect for unwinding on a Friday night\, with a fun mix of pop and rock covers from the past several decades. Come and check out Daniel’s great voice and guitar work starting at 7pm. Also check out Daniel on Instagram!
URL:https://prairiedog.bbq.beer/event/live-on-stage-daniel-hanrahan-3/
LOCATION:Prairie Dog Brewpub – Calgary Chinook\, 105D 58 Ave SE\, Calgary\, AB\, T2H 0N8\, Canada
CATEGORIES:Live Music
ATTACH;FMTTYPE=image/jpeg:https://prairiedog.bbq.beer/wp-content/uploads/2024/09/daniel-hanrahan.jpg
ORGANIZER;CN="Prairie Dog Brewing Music Team":MAILTO:music@bbq.beer
END:VEVENT
BEGIN:VEVENT
DTSTART;TZID=America/Edmonton:20260124T190000
DTEND;TZID=America/Edmonton:20260124T220000
DTSTAMP:20260424T165533
CREATED:20251228T001111Z
LAST-MODIFIED:20260123T215542Z
UID:10000452-1769281200-1769292000@prairiedog.bbq.beer
SUMMARY:Live On Stage: Reed Alton
DESCRIPTION:You may remember Reed from his memorable shows with the Habroneros\, Reed and Keaton\, or his world-touring band\, Osyron. His incredible voice\, set list of nostalgic hits\, and super fun stage presence always gets the crowd engaged – hands clapping and feet tapping all around. Come and see him live in a new solo show that promises to be endlessly fun for any music lover.  \nPhoto Credit: Lunar Ring Media
URL:https://prairiedog.bbq.beer/event/live-on-stage-reed-alton-3/
LOCATION:Prairie Dog Brewpub – Calgary Chinook\, 105D 58 Ave SE\, Calgary\, AB\, T2H 0N8\, Canada
CATEGORIES:Live Music
ATTACH;FMTTYPE=image/png:https://prairiedog.bbq.beer/wp-content/uploads/2025/04/Reed2.png
ORGANIZER;CN="Prairie Dog Brewing Music Team":MAILTO:music@bbq.beer
END:VEVENT
BEGIN:VEVENT
DTSTART;TZID=America/Edmonton:20260130T190000
DTEND;TZID=America/Edmonton:20260130T220000
DTSTAMP:20260424T165533
CREATED:20251228T001151Z
LAST-MODIFIED:20251228T001151Z
UID:10000453-1769799600-1769810400@prairiedog.bbq.beer
SUMMARY:Live On Stage: Earl Morgan
DESCRIPTION:Let Tyler and Colton of Earl Morgan Band entertain you with their fun mix of acoustic covers spanning the 70’s\, 80’s\, 90’s and 2000’s\, with great vocal harmonies\, harmonica\, mandolin and more\, all while you enjoy dinner and drinks on a Friday night at Prairie Dog! \nSince 2016\, Earl Morgan have been the soundtrack to many unforgettable nights around western Canada. An acoustic duo consisting of Colton Earl Palaschak and Tyler Morgan Gates\, their repertoire consists of songs from artists ranging from Tragically Hip\, Tom Petty\, Blue Rodeo\, Steve Earle\, Barenaked Ladies\, and Bruce Springsteen.
URL:https://prairiedog.bbq.beer/event/live-on-stage-earl-morgan/
LOCATION:Prairie Dog Brewpub – Calgary Chinook\, 105D 58 Ave SE\, Calgary\, AB\, T2H 0N8\, Canada
CATEGORIES:Live Music
ATTACH;FMTTYPE=image/jpeg:https://prairiedog.bbq.beer/wp-content/uploads/2024/07/Earl-Morgan-Band.jpg
ORGANIZER;CN="Prairie Dog Brewing Music Team":MAILTO:music@bbq.beer
END:VEVENT
BEGIN:VEVENT
DTSTART;TZID=America/Edmonton:20260131T190000
DTEND;TZID=America/Edmonton:20260131T233000
DTSTAMP:20260424T165533
CREATED:20260116T175911Z
LAST-MODIFIED:20260130T175855Z
UID:10000432-1769886000-1769902200@prairiedog.bbq.beer
SUMMARY:3rd Annual Rocking With Mito
DESCRIPTION:Come join us for a rocking night of live music with an amazing auction and of course FUN. \nAuction items include the ultimate sports weekend in Toronto\, Flight\, hotel stay and concert tickets to Ed Sheeren in Toronto\, Lady Gaga in Minneapolis\, signed music and sports memorabilia\, and so much more!  \nLate night poutine bar is included with your ticket. \nCome for dinner between 5:00 and 7:00pm and get 15% off your meal.  \nDon’t miss out on this opportunity to have a great time with friends and support MitoCanada . See you there! \nCheck out our great lineup of events coming up: https://prairiedog.bbq.beer/events/
URL:https://prairiedog.bbq.beer/event/rocking-with-mito-2/
LOCATION:Prairie Dog Brewpub – Calgary Chinook\, 105D 58 Ave SE\, Calgary\, AB\, T2H 0N8\, Canada
CATEGORIES:In-Pub Entertainment,Live Music
ATTACH;FMTTYPE=image/avif:https://prairiedog.bbq.beer/wp-content/uploads/2025/04/https___cdn.evbuc.com_images_982569193_1428604364543_1_original.avif
ORGANIZER;CN="Prairie Dog Brewing Events Team":MAILTO:events@prairiedogbrewing.ca
END:VEVENT
END:VCALENDAR