BEGIN:VCALENDAR
VERSION:2.0
PRODID:-//Prairie Dog Brewing - ECPv6.15.20//NONSGML v1.0//EN
CALSCALE:GREGORIAN
METHOD:PUBLISH
X-WR-CALNAME:Prairie Dog Brewing
X-ORIGINAL-URL:https://prairiedog.bbq.beer
X-WR-CALDESC:Events for Prairie Dog Brewing
REFRESH-INTERVAL;VALUE=DURATION:PT1H
X-Robots-Tag:noindex
X-PUBLISHED-TTL:PT1H
BEGIN:VTIMEZONE
TZID:America/Edmonton
BEGIN:DAYLIGHT
TZOFFSETFROM:-0700
TZOFFSETTO:-0600
TZNAME:MDT
DTSTART:20290311T090000
END:DAYLIGHT
BEGIN:STANDARD
TZOFFSETFROM:-0600
TZOFFSETTO:-0700
TZNAME:MST
DTSTART:20291104T080000
END:STANDARD
BEGIN:DAYLIGHT
TZOFFSETFROM:-0700
TZOFFSETTO:-0600
TZNAME:MDT
DTSTART:20300310T090000
END:DAYLIGHT
BEGIN:STANDARD
TZOFFSETFROM:-0600
TZOFFSETTO:-0700
TZNAME:MST
DTSTART:20301103T080000
END:STANDARD
BEGIN:DAYLIGHT
TZOFFSETFROM:-0700
TZOFFSETTO:-0600
TZNAME:MDT
DTSTART:20310309T090000
END:DAYLIGHT
BEGIN:STANDARD
TZOFFSETFROM:-0600
TZOFFSETTO:-0700
TZNAME:MST
DTSTART:20311102T080000
END:STANDARD
END:VTIMEZONE
BEGIN:VEVENT
DTSTART;TZID=America/Edmonton:20300114T190000
DTEND;TZID=America/Edmonton:20300114T210000
DTSTAMP:20260420T215702
CREATED:20260413T193536Z
LAST-MODIFIED:20260413T200405Z
UID:10000507-1894647600-1894654800@prairiedog.bbq.beer
SUMMARY:Trivia Night
DESCRIPTION:Prairie Dog Brewing is your place for Monday Night Trivia! Join us at 7pm for great food\, drinks\, free Trivia\, Name That Tune\, and prizes!
URL:https://prairiedog.bbq.beer/event/trivia-night-2/2030-01-14/
LOCATION:Prairie Dog Brewpub – Calgary Chinook\, 105D 58 Ave SE\, Calgary\, AB\, T2H 0N8\, Canada
CATEGORIES:Trivia
ATTACH;FMTTYPE=image/jpeg:https://prairiedog.bbq.beer/wp-content/uploads/2024/07/Trivia-Night-Promo.jpeg
END:VEVENT
BEGIN:VEVENT
DTSTART;TZID=America/Edmonton:20300121T190000
DTEND;TZID=America/Edmonton:20300121T210000
DTSTAMP:20260420T215702
CREATED:20260413T193536Z
LAST-MODIFIED:20260413T200405Z
UID:10000508-1895252400-1895259600@prairiedog.bbq.beer
SUMMARY:Trivia Night
DESCRIPTION:Prairie Dog Brewing is your place for Monday Night Trivia! Join us at 7pm for great food\, drinks\, free Trivia\, Name That Tune\, and prizes!
URL:https://prairiedog.bbq.beer/event/trivia-night-2/2030-01-21/
LOCATION:Prairie Dog Brewpub – Calgary Chinook\, 105D 58 Ave SE\, Calgary\, AB\, T2H 0N8\, Canada
CATEGORIES:Trivia
ATTACH;FMTTYPE=image/jpeg:https://prairiedog.bbq.beer/wp-content/uploads/2024/07/Trivia-Night-Promo.jpeg
END:VEVENT
BEGIN:VEVENT
DTSTART;TZID=America/Edmonton:20300128T190000
DTEND;TZID=America/Edmonton:20300128T210000
DTSTAMP:20260420T215702
CREATED:20260413T193536Z
LAST-MODIFIED:20260413T200405Z
UID:10000509-1895857200-1895864400@prairiedog.bbq.beer
SUMMARY:Trivia Night
DESCRIPTION:Prairie Dog Brewing is your place for Monday Night Trivia! Join us at 7pm for great food\, drinks\, free Trivia\, Name That Tune\, and prizes!
URL:https://prairiedog.bbq.beer/event/trivia-night-2/2030-01-28/
LOCATION:Prairie Dog Brewpub – Calgary Chinook\, 105D 58 Ave SE\, Calgary\, AB\, T2H 0N8\, Canada
CATEGORIES:Trivia
ATTACH;FMTTYPE=image/jpeg:https://prairiedog.bbq.beer/wp-content/uploads/2024/07/Trivia-Night-Promo.jpeg
END:VEVENT
BEGIN:VEVENT
DTSTART;TZID=America/Edmonton:20300204T190000
DTEND;TZID=America/Edmonton:20300204T210000
DTSTAMP:20260420T215702
CREATED:20260413T193536Z
LAST-MODIFIED:20260413T200405Z
UID:10000510-1896462000-1896469200@prairiedog.bbq.beer
SUMMARY:Trivia Night
DESCRIPTION:Prairie Dog Brewing is your place for Monday Night Trivia! Join us at 7pm for great food\, drinks\, free Trivia\, Name That Tune\, and prizes!
URL:https://prairiedog.bbq.beer/event/trivia-night-2/2030-02-04/
LOCATION:Prairie Dog Brewpub – Calgary Chinook\, 105D 58 Ave SE\, Calgary\, AB\, T2H 0N8\, Canada
CATEGORIES:Trivia
ATTACH;FMTTYPE=image/jpeg:https://prairiedog.bbq.beer/wp-content/uploads/2024/07/Trivia-Night-Promo.jpeg
END:VEVENT
BEGIN:VEVENT
DTSTART;TZID=America/Edmonton:20300211T190000
DTEND;TZID=America/Edmonton:20300211T210000
DTSTAMP:20260420T215702
CREATED:20260413T193536Z
LAST-MODIFIED:20260413T200405Z
UID:10000511-1897066800-1897074000@prairiedog.bbq.beer
SUMMARY:Trivia Night
DESCRIPTION:Prairie Dog Brewing is your place for Monday Night Trivia! Join us at 7pm for great food\, drinks\, free Trivia\, Name That Tune\, and prizes!
URL:https://prairiedog.bbq.beer/event/trivia-night-2/2030-02-11/
LOCATION:Prairie Dog Brewpub – Calgary Chinook\, 105D 58 Ave SE\, Calgary\, AB\, T2H 0N8\, Canada
CATEGORIES:Trivia
ATTACH;FMTTYPE=image/jpeg:https://prairiedog.bbq.beer/wp-content/uploads/2024/07/Trivia-Night-Promo.jpeg
END:VEVENT
BEGIN:VEVENT
DTSTART;TZID=America/Edmonton:20300218T190000
DTEND;TZID=America/Edmonton:20300218T210000
DTSTAMP:20260420T215702
CREATED:20260413T193536Z
LAST-MODIFIED:20260413T200405Z
UID:10000512-1897671600-1897678800@prairiedog.bbq.beer
SUMMARY:Trivia Night
DESCRIPTION:Prairie Dog Brewing is your place for Monday Night Trivia! Join us at 7pm for great food\, drinks\, free Trivia\, Name That Tune\, and prizes!
URL:https://prairiedog.bbq.beer/event/trivia-night-2/2030-02-18/
LOCATION:Prairie Dog Brewpub – Calgary Chinook\, 105D 58 Ave SE\, Calgary\, AB\, T2H 0N8\, Canada
CATEGORIES:Trivia
ATTACH;FMTTYPE=image/jpeg:https://prairiedog.bbq.beer/wp-content/uploads/2024/07/Trivia-Night-Promo.jpeg
END:VEVENT
BEGIN:VEVENT
DTSTART;TZID=America/Edmonton:20300225T190000
DTEND;TZID=America/Edmonton:20300225T210000
DTSTAMP:20260420T215702
CREATED:20260413T193536Z
LAST-MODIFIED:20260413T200405Z
UID:10000513-1898276400-1898283600@prairiedog.bbq.beer
SUMMARY:Trivia Night
DESCRIPTION:Prairie Dog Brewing is your place for Monday Night Trivia! Join us at 7pm for great food\, drinks\, free Trivia\, Name That Tune\, and prizes!
URL:https://prairiedog.bbq.beer/event/trivia-night-2/2030-02-25/
LOCATION:Prairie Dog Brewpub – Calgary Chinook\, 105D 58 Ave SE\, Calgary\, AB\, T2H 0N8\, Canada
CATEGORIES:Trivia
ATTACH;FMTTYPE=image/jpeg:https://prairiedog.bbq.beer/wp-content/uploads/2024/07/Trivia-Night-Promo.jpeg
END:VEVENT
BEGIN:VEVENT
DTSTART;TZID=America/Edmonton:20300304T190000
DTEND;TZID=America/Edmonton:20300304T210000
DTSTAMP:20260420T215702
CREATED:20260413T193536Z
LAST-MODIFIED:20260413T200405Z
UID:10000514-1898881200-1898888400@prairiedog.bbq.beer
SUMMARY:Trivia Night
DESCRIPTION:Prairie Dog Brewing is your place for Monday Night Trivia! Join us at 7pm for great food\, drinks\, free Trivia\, Name That Tune\, and prizes!
URL:https://prairiedog.bbq.beer/event/trivia-night-2/2030-03-04/
LOCATION:Prairie Dog Brewpub – Calgary Chinook\, 105D 58 Ave SE\, Calgary\, AB\, T2H 0N8\, Canada
CATEGORIES:Trivia
ATTACH;FMTTYPE=image/jpeg:https://prairiedog.bbq.beer/wp-content/uploads/2024/07/Trivia-Night-Promo.jpeg
END:VEVENT
BEGIN:VEVENT
DTSTART;TZID=America/Edmonton:20300311T190000
DTEND;TZID=America/Edmonton:20300311T210000
DTSTAMP:20260420T215702
CREATED:20260413T193536Z
LAST-MODIFIED:20260413T200405Z
UID:10000515-1899486000-1899493200@prairiedog.bbq.beer
SUMMARY:Trivia Night
DESCRIPTION:Prairie Dog Brewing is your place for Monday Night Trivia! Join us at 7pm for great food\, drinks\, free Trivia\, Name That Tune\, and prizes!
URL:https://prairiedog.bbq.beer/event/trivia-night-2/2030-03-11/
LOCATION:Prairie Dog Brewpub – Calgary Chinook\, 105D 58 Ave SE\, Calgary\, AB\, T2H 0N8\, Canada
CATEGORIES:Trivia
ATTACH;FMTTYPE=image/jpeg:https://prairiedog.bbq.beer/wp-content/uploads/2024/07/Trivia-Night-Promo.jpeg
END:VEVENT
BEGIN:VEVENT
DTSTART;TZID=America/Edmonton:20300318T190000
DTEND;TZID=America/Edmonton:20300318T210000
DTSTAMP:20260420T215702
CREATED:20260413T193536Z
LAST-MODIFIED:20260413T200405Z
UID:10000516-1900090800-1900098000@prairiedog.bbq.beer
SUMMARY:Trivia Night
DESCRIPTION:Prairie Dog Brewing is your place for Monday Night Trivia! Join us at 7pm for great food\, drinks\, free Trivia\, Name That Tune\, and prizes!
URL:https://prairiedog.bbq.beer/event/trivia-night-2/2030-03-18/
LOCATION:Prairie Dog Brewpub – Calgary Chinook\, 105D 58 Ave SE\, Calgary\, AB\, T2H 0N8\, Canada
CATEGORIES:Trivia
ATTACH;FMTTYPE=image/jpeg:https://prairiedog.bbq.beer/wp-content/uploads/2024/07/Trivia-Night-Promo.jpeg
END:VEVENT
BEGIN:VEVENT
DTSTART;TZID=America/Edmonton:20300325T190000
DTEND;TZID=America/Edmonton:20300325T210000
DTSTAMP:20260420T215702
CREATED:20260413T193536Z
LAST-MODIFIED:20260413T200405Z
UID:10000517-1900695600-1900702800@prairiedog.bbq.beer
SUMMARY:Trivia Night
DESCRIPTION:Prairie Dog Brewing is your place for Monday Night Trivia! Join us at 7pm for great food\, drinks\, free Trivia\, Name That Tune\, and prizes!
URL:https://prairiedog.bbq.beer/event/trivia-night-2/2030-03-25/
LOCATION:Prairie Dog Brewpub – Calgary Chinook\, 105D 58 Ave SE\, Calgary\, AB\, T2H 0N8\, Canada
CATEGORIES:Trivia
ATTACH;FMTTYPE=image/jpeg:https://prairiedog.bbq.beer/wp-content/uploads/2024/07/Trivia-Night-Promo.jpeg
END:VEVENT
BEGIN:VEVENT
DTSTART;TZID=America/Edmonton:20300401T190000
DTEND;TZID=America/Edmonton:20300401T210000
DTSTAMP:20260420T215702
CREATED:20260413T193536Z
LAST-MODIFIED:20260413T200405Z
UID:10000518-1901300400-1901307600@prairiedog.bbq.beer
SUMMARY:Trivia Night
DESCRIPTION:Prairie Dog Brewing is your place for Monday Night Trivia! Join us at 7pm for great food\, drinks\, free Trivia\, Name That Tune\, and prizes!
URL:https://prairiedog.bbq.beer/event/trivia-night-2/2030-04-01/
LOCATION:Prairie Dog Brewpub – Calgary Chinook\, 105D 58 Ave SE\, Calgary\, AB\, T2H 0N8\, Canada
CATEGORIES:Trivia
ATTACH;FMTTYPE=image/jpeg:https://prairiedog.bbq.beer/wp-content/uploads/2024/07/Trivia-Night-Promo.jpeg
END:VEVENT
BEGIN:VEVENT
DTSTART;TZID=America/Edmonton:20300408T190000
DTEND;TZID=America/Edmonton:20300408T210000
DTSTAMP:20260420T215702
CREATED:20260413T193536Z
LAST-MODIFIED:20260413T200405Z
UID:10000519-1901905200-1901912400@prairiedog.bbq.beer
SUMMARY:Trivia Night
DESCRIPTION:Prairie Dog Brewing is your place for Monday Night Trivia! Join us at 7pm for great food\, drinks\, free Trivia\, Name That Tune\, and prizes!
URL:https://prairiedog.bbq.beer/event/trivia-night-2/2030-04-08/
LOCATION:Prairie Dog Brewpub – Calgary Chinook\, 105D 58 Ave SE\, Calgary\, AB\, T2H 0N8\, Canada
CATEGORIES:Trivia
ATTACH;FMTTYPE=image/jpeg:https://prairiedog.bbq.beer/wp-content/uploads/2024/07/Trivia-Night-Promo.jpeg
END:VEVENT
BEGIN:VEVENT
DTSTART;TZID=America/Edmonton:20300415T190000
DTEND;TZID=America/Edmonton:20300415T210000
DTSTAMP:20260420T215702
CREATED:20260413T193536Z
LAST-MODIFIED:20260413T200405Z
UID:10000520-1902510000-1902517200@prairiedog.bbq.beer
SUMMARY:Trivia Night
DESCRIPTION:Prairie Dog Brewing is your place for Monday Night Trivia! Join us at 7pm for great food\, drinks\, free Trivia\, Name That Tune\, and prizes!
URL:https://prairiedog.bbq.beer/event/trivia-night-2/2030-04-15/
LOCATION:Prairie Dog Brewpub – Calgary Chinook\, 105D 58 Ave SE\, Calgary\, AB\, T2H 0N8\, Canada
CATEGORIES:Trivia
ATTACH;FMTTYPE=image/jpeg:https://prairiedog.bbq.beer/wp-content/uploads/2024/07/Trivia-Night-Promo.jpeg
END:VEVENT
BEGIN:VEVENT
DTSTART;TZID=America/Edmonton:20300422T190000
DTEND;TZID=America/Edmonton:20300422T210000
DTSTAMP:20260420T215702
CREATED:20260413T193536Z
LAST-MODIFIED:20260413T200405Z
UID:10000521-1903114800-1903122000@prairiedog.bbq.beer
SUMMARY:Trivia Night
DESCRIPTION:Prairie Dog Brewing is your place for Monday Night Trivia! Join us at 7pm for great food\, drinks\, free Trivia\, Name That Tune\, and prizes!
URL:https://prairiedog.bbq.beer/event/trivia-night-2/2030-04-22/
LOCATION:Prairie Dog Brewpub – Calgary Chinook\, 105D 58 Ave SE\, Calgary\, AB\, T2H 0N8\, Canada
CATEGORIES:Trivia
ATTACH;FMTTYPE=image/jpeg:https://prairiedog.bbq.beer/wp-content/uploads/2024/07/Trivia-Night-Promo.jpeg
END:VEVENT
BEGIN:VEVENT
DTSTART;TZID=America/Edmonton:20300429T190000
DTEND;TZID=America/Edmonton:20300429T210000
DTSTAMP:20260420T215702
CREATED:20260413T193536Z
LAST-MODIFIED:20260413T200405Z
UID:10000522-1903719600-1903726800@prairiedog.bbq.beer
SUMMARY:Trivia Night
DESCRIPTION:Prairie Dog Brewing is your place for Monday Night Trivia! Join us at 7pm for great food\, drinks\, free Trivia\, Name That Tune\, and prizes!
URL:https://prairiedog.bbq.beer/event/trivia-night-2/2030-04-29/
LOCATION:Prairie Dog Brewpub – Calgary Chinook\, 105D 58 Ave SE\, Calgary\, AB\, T2H 0N8\, Canada
CATEGORIES:Trivia
ATTACH;FMTTYPE=image/jpeg:https://prairiedog.bbq.beer/wp-content/uploads/2024/07/Trivia-Night-Promo.jpeg
END:VEVENT
BEGIN:VEVENT
DTSTART;TZID=America/Edmonton:20300506T190000
DTEND;TZID=America/Edmonton:20300506T210000
DTSTAMP:20260420T215702
CREATED:20260413T193536Z
LAST-MODIFIED:20260413T200405Z
UID:10000523-1904324400-1904331600@prairiedog.bbq.beer
SUMMARY:Trivia Night
DESCRIPTION:Prairie Dog Brewing is your place for Monday Night Trivia! Join us at 7pm for great food\, drinks\, free Trivia\, Name That Tune\, and prizes!
URL:https://prairiedog.bbq.beer/event/trivia-night-2/2030-05-06/
LOCATION:Prairie Dog Brewpub – Calgary Chinook\, 105D 58 Ave SE\, Calgary\, AB\, T2H 0N8\, Canada
CATEGORIES:Trivia
ATTACH;FMTTYPE=image/jpeg:https://prairiedog.bbq.beer/wp-content/uploads/2024/07/Trivia-Night-Promo.jpeg
END:VEVENT
BEGIN:VEVENT
DTSTART;TZID=America/Edmonton:20300513T190000
DTEND;TZID=America/Edmonton:20300513T210000
DTSTAMP:20260420T215702
CREATED:20260413T193536Z
LAST-MODIFIED:20260413T200405Z
UID:10000524-1904929200-1904936400@prairiedog.bbq.beer
SUMMARY:Trivia Night
DESCRIPTION:Prairie Dog Brewing is your place for Monday Night Trivia! Join us at 7pm for great food\, drinks\, free Trivia\, Name That Tune\, and prizes!
URL:https://prairiedog.bbq.beer/event/trivia-night-2/2030-05-13/
LOCATION:Prairie Dog Brewpub – Calgary Chinook\, 105D 58 Ave SE\, Calgary\, AB\, T2H 0N8\, Canada
CATEGORIES:Trivia
ATTACH;FMTTYPE=image/jpeg:https://prairiedog.bbq.beer/wp-content/uploads/2024/07/Trivia-Night-Promo.jpeg
END:VEVENT
BEGIN:VEVENT
DTSTART;TZID=America/Edmonton:20300520T190000
DTEND;TZID=America/Edmonton:20300520T210000
DTSTAMP:20260420T215702
CREATED:20260413T193536Z
LAST-MODIFIED:20260413T200405Z
UID:10000525-1905534000-1905541200@prairiedog.bbq.beer
SUMMARY:Trivia Night
DESCRIPTION:Prairie Dog Brewing is your place for Monday Night Trivia! Join us at 7pm for great food\, drinks\, free Trivia\, Name That Tune\, and prizes!
URL:https://prairiedog.bbq.beer/event/trivia-night-2/2030-05-20/
LOCATION:Prairie Dog Brewpub – Calgary Chinook\, 105D 58 Ave SE\, Calgary\, AB\, T2H 0N8\, Canada
CATEGORIES:Trivia
ATTACH;FMTTYPE=image/jpeg:https://prairiedog.bbq.beer/wp-content/uploads/2024/07/Trivia-Night-Promo.jpeg
END:VEVENT
BEGIN:VEVENT
DTSTART;TZID=America/Edmonton:20300527T190000
DTEND;TZID=America/Edmonton:20300527T210000
DTSTAMP:20260420T215702
CREATED:20260413T193536Z
LAST-MODIFIED:20260413T200405Z
UID:10000526-1906138800-1906146000@prairiedog.bbq.beer
SUMMARY:Trivia Night
DESCRIPTION:Prairie Dog Brewing is your place for Monday Night Trivia! Join us at 7pm for great food\, drinks\, free Trivia\, Name That Tune\, and prizes!
URL:https://prairiedog.bbq.beer/event/trivia-night-2/2030-05-27/
LOCATION:Prairie Dog Brewpub – Calgary Chinook\, 105D 58 Ave SE\, Calgary\, AB\, T2H 0N8\, Canada
CATEGORIES:Trivia
ATTACH;FMTTYPE=image/jpeg:https://prairiedog.bbq.beer/wp-content/uploads/2024/07/Trivia-Night-Promo.jpeg
END:VEVENT
BEGIN:VEVENT
DTSTART;TZID=America/Edmonton:20300603T190000
DTEND;TZID=America/Edmonton:20300603T210000
DTSTAMP:20260420T215702
CREATED:20260413T193536Z
LAST-MODIFIED:20260413T200405Z
UID:10000527-1906743600-1906750800@prairiedog.bbq.beer
SUMMARY:Trivia Night
DESCRIPTION:Prairie Dog Brewing is your place for Monday Night Trivia! Join us at 7pm for great food\, drinks\, free Trivia\, Name That Tune\, and prizes!
URL:https://prairiedog.bbq.beer/event/trivia-night-2/2030-06-03/
LOCATION:Prairie Dog Brewpub – Calgary Chinook\, 105D 58 Ave SE\, Calgary\, AB\, T2H 0N8\, Canada
CATEGORIES:Trivia
ATTACH;FMTTYPE=image/jpeg:https://prairiedog.bbq.beer/wp-content/uploads/2024/07/Trivia-Night-Promo.jpeg
END:VEVENT
BEGIN:VEVENT
DTSTART;TZID=America/Edmonton:20300610T190000
DTEND;TZID=America/Edmonton:20300610T210000
DTSTAMP:20260420T215702
CREATED:20260413T193536Z
LAST-MODIFIED:20260413T200405Z
UID:10000528-1907348400-1907355600@prairiedog.bbq.beer
SUMMARY:Trivia Night
DESCRIPTION:Prairie Dog Brewing is your place for Monday Night Trivia! Join us at 7pm for great food\, drinks\, free Trivia\, Name That Tune\, and prizes!
URL:https://prairiedog.bbq.beer/event/trivia-night-2/2030-06-10/
LOCATION:Prairie Dog Brewpub – Calgary Chinook\, 105D 58 Ave SE\, Calgary\, AB\, T2H 0N8\, Canada
CATEGORIES:Trivia
ATTACH;FMTTYPE=image/jpeg:https://prairiedog.bbq.beer/wp-content/uploads/2024/07/Trivia-Night-Promo.jpeg
END:VEVENT
BEGIN:VEVENT
DTSTART;TZID=America/Edmonton:20300617T190000
DTEND;TZID=America/Edmonton:20300617T210000
DTSTAMP:20260420T215702
CREATED:20260413T193536Z
LAST-MODIFIED:20260413T200405Z
UID:10000529-1907953200-1907960400@prairiedog.bbq.beer
SUMMARY:Trivia Night
DESCRIPTION:Prairie Dog Brewing is your place for Monday Night Trivia! Join us at 7pm for great food\, drinks\, free Trivia\, Name That Tune\, and prizes!
URL:https://prairiedog.bbq.beer/event/trivia-night-2/2030-06-17/
LOCATION:Prairie Dog Brewpub – Calgary Chinook\, 105D 58 Ave SE\, Calgary\, AB\, T2H 0N8\, Canada
CATEGORIES:Trivia
ATTACH;FMTTYPE=image/jpeg:https://prairiedog.bbq.beer/wp-content/uploads/2024/07/Trivia-Night-Promo.jpeg
END:VEVENT
BEGIN:VEVENT
DTSTART;TZID=America/Edmonton:20300624T190000
DTEND;TZID=America/Edmonton:20300624T210000
DTSTAMP:20260420T215702
CREATED:20260413T193536Z
LAST-MODIFIED:20260413T200405Z
UID:10000530-1908558000-1908565200@prairiedog.bbq.beer
SUMMARY:Trivia Night
DESCRIPTION:Prairie Dog Brewing is your place for Monday Night Trivia! Join us at 7pm for great food\, drinks\, free Trivia\, Name That Tune\, and prizes!
URL:https://prairiedog.bbq.beer/event/trivia-night-2/2030-06-24/
LOCATION:Prairie Dog Brewpub – Calgary Chinook\, 105D 58 Ave SE\, Calgary\, AB\, T2H 0N8\, Canada
CATEGORIES:Trivia
ATTACH;FMTTYPE=image/jpeg:https://prairiedog.bbq.beer/wp-content/uploads/2024/07/Trivia-Night-Promo.jpeg
END:VEVENT
BEGIN:VEVENT
DTSTART;TZID=America/Edmonton:20300701T190000
DTEND;TZID=America/Edmonton:20300701T210000
DTSTAMP:20260420T215702
CREATED:20260413T193536Z
LAST-MODIFIED:20260413T200405Z
UID:10000531-1909162800-1909170000@prairiedog.bbq.beer
SUMMARY:Trivia Night
DESCRIPTION:Prairie Dog Brewing is your place for Monday Night Trivia! Join us at 7pm for great food\, drinks\, free Trivia\, Name That Tune\, and prizes!
URL:https://prairiedog.bbq.beer/event/trivia-night-2/2030-07-01/
LOCATION:Prairie Dog Brewpub – Calgary Chinook\, 105D 58 Ave SE\, Calgary\, AB\, T2H 0N8\, Canada
CATEGORIES:Trivia
ATTACH;FMTTYPE=image/jpeg:https://prairiedog.bbq.beer/wp-content/uploads/2024/07/Trivia-Night-Promo.jpeg
END:VEVENT
BEGIN:VEVENT
DTSTART;TZID=America/Edmonton:20300708T190000
DTEND;TZID=America/Edmonton:20300708T210000
DTSTAMP:20260420T215702
CREATED:20260413T193536Z
LAST-MODIFIED:20260413T200405Z
UID:10000532-1909767600-1909774800@prairiedog.bbq.beer
SUMMARY:Trivia Night
DESCRIPTION:Prairie Dog Brewing is your place for Monday Night Trivia! Join us at 7pm for great food\, drinks\, free Trivia\, Name That Tune\, and prizes!
URL:https://prairiedog.bbq.beer/event/trivia-night-2/2030-07-08/
LOCATION:Prairie Dog Brewpub – Calgary Chinook\, 105D 58 Ave SE\, Calgary\, AB\, T2H 0N8\, Canada
CATEGORIES:Trivia
ATTACH;FMTTYPE=image/jpeg:https://prairiedog.bbq.beer/wp-content/uploads/2024/07/Trivia-Night-Promo.jpeg
END:VEVENT
BEGIN:VEVENT
DTSTART;TZID=America/Edmonton:20300715T190000
DTEND;TZID=America/Edmonton:20300715T210000
DTSTAMP:20260420T215702
CREATED:20260413T193536Z
LAST-MODIFIED:20260413T200405Z
UID:10000533-1910372400-1910379600@prairiedog.bbq.beer
SUMMARY:Trivia Night
DESCRIPTION:Prairie Dog Brewing is your place for Monday Night Trivia! Join us at 7pm for great food\, drinks\, free Trivia\, Name That Tune\, and prizes!
URL:https://prairiedog.bbq.beer/event/trivia-night-2/2030-07-15/
LOCATION:Prairie Dog Brewpub – Calgary Chinook\, 105D 58 Ave SE\, Calgary\, AB\, T2H 0N8\, Canada
CATEGORIES:Trivia
ATTACH;FMTTYPE=image/jpeg:https://prairiedog.bbq.beer/wp-content/uploads/2024/07/Trivia-Night-Promo.jpeg
END:VEVENT
BEGIN:VEVENT
DTSTART;TZID=America/Edmonton:20300722T190000
DTEND;TZID=America/Edmonton:20300722T210000
DTSTAMP:20260420T215702
CREATED:20260413T193536Z
LAST-MODIFIED:20260413T200405Z
UID:10000534-1910977200-1910984400@prairiedog.bbq.beer
SUMMARY:Trivia Night
DESCRIPTION:Prairie Dog Brewing is your place for Monday Night Trivia! Join us at 7pm for great food\, drinks\, free Trivia\, Name That Tune\, and prizes!
URL:https://prairiedog.bbq.beer/event/trivia-night-2/2030-07-22/
LOCATION:Prairie Dog Brewpub – Calgary Chinook\, 105D 58 Ave SE\, Calgary\, AB\, T2H 0N8\, Canada
CATEGORIES:Trivia
ATTACH;FMTTYPE=image/jpeg:https://prairiedog.bbq.beer/wp-content/uploads/2024/07/Trivia-Night-Promo.jpeg
END:VEVENT
BEGIN:VEVENT
DTSTART;TZID=America/Edmonton:20300729T190000
DTEND;TZID=America/Edmonton:20300729T210000
DTSTAMP:20260420T215702
CREATED:20260413T193536Z
LAST-MODIFIED:20260413T200405Z
UID:10000535-1911582000-1911589200@prairiedog.bbq.beer
SUMMARY:Trivia Night
DESCRIPTION:Prairie Dog Brewing is your place for Monday Night Trivia! Join us at 7pm for great food\, drinks\, free Trivia\, Name That Tune\, and prizes!
URL:https://prairiedog.bbq.beer/event/trivia-night-2/2030-07-29/
LOCATION:Prairie Dog Brewpub – Calgary Chinook\, 105D 58 Ave SE\, Calgary\, AB\, T2H 0N8\, Canada
CATEGORIES:Trivia
ATTACH;FMTTYPE=image/jpeg:https://prairiedog.bbq.beer/wp-content/uploads/2024/07/Trivia-Night-Promo.jpeg
END:VEVENT
BEGIN:VEVENT
DTSTART;TZID=America/Edmonton:20300805T190000
DTEND;TZID=America/Edmonton:20300805T210000
DTSTAMP:20260420T215702
CREATED:20260413T193536Z
LAST-MODIFIED:20260413T200405Z
UID:10000536-1912186800-1912194000@prairiedog.bbq.beer
SUMMARY:Trivia Night
DESCRIPTION:Prairie Dog Brewing is your place for Monday Night Trivia! Join us at 7pm for great food\, drinks\, free Trivia\, Name That Tune\, and prizes!
URL:https://prairiedog.bbq.beer/event/trivia-night-2/2030-08-05/
LOCATION:Prairie Dog Brewpub – Calgary Chinook\, 105D 58 Ave SE\, Calgary\, AB\, T2H 0N8\, Canada
CATEGORIES:Trivia
ATTACH;FMTTYPE=image/jpeg:https://prairiedog.bbq.beer/wp-content/uploads/2024/07/Trivia-Night-Promo.jpeg
END:VEVENT
END:VCALENDAR