BEGIN:VCALENDAR
VERSION:2.0
PRODID:-//Prairie Dog Brewing - ECPv6.15.20//NONSGML v1.0//EN
CALSCALE:GREGORIAN
METHOD:PUBLISH
X-WR-CALNAME:Prairie Dog Brewing
X-ORIGINAL-URL:https://prairiedog.bbq.beer
X-WR-CALDESC:Events for Prairie Dog Brewing
REFRESH-INTERVAL;VALUE=DURATION:PT1H
X-Robots-Tag:noindex
X-PUBLISHED-TTL:PT1H
BEGIN:VTIMEZONE
TZID:America/Edmonton
BEGIN:DAYLIGHT
TZOFFSETFROM:-0700
TZOFFSETTO:-0600
TZNAME:MDT
DTSTART:20250309T090000
END:DAYLIGHT
BEGIN:STANDARD
TZOFFSETFROM:-0600
TZOFFSETTO:-0700
TZNAME:MST
DTSTART:20251102T080000
END:STANDARD
BEGIN:DAYLIGHT
TZOFFSETFROM:-0700
TZOFFSETTO:-0600
TZNAME:MDT
DTSTART:20260308T090000
END:DAYLIGHT
BEGIN:STANDARD
TZOFFSETFROM:-0600
TZOFFSETTO:-0700
TZNAME:MST
DTSTART:20261101T080000
END:STANDARD
BEGIN:DAYLIGHT
TZOFFSETFROM:-0700
TZOFFSETTO:-0600
TZNAME:MDT
DTSTART:20270314T090000
END:DAYLIGHT
BEGIN:STANDARD
TZOFFSETFROM:-0600
TZOFFSETTO:-0700
TZNAME:MST
DTSTART:20271107T080000
END:STANDARD
END:VTIMEZONE
BEGIN:VEVENT
DTSTART;TZID=America/Edmonton:20260615T190000
DTEND;TZID=America/Edmonton:20260615T210000
DTSTAMP:20260419T200813
CREATED:20260413T193536Z
LAST-MODIFIED:20260413T200405Z
UID:10000151-1781550000-1781557200@prairiedog.bbq.beer
SUMMARY:Trivia Night
DESCRIPTION:Prairie Dog Brewing is your place for Monday Night Trivia! Join us at 7pm for great food\, drinks\, free Trivia\, Name That Tune\, and prizes!
URL:https://prairiedog.bbq.beer/event/trivia-night-2/2026-06-15/
LOCATION:Prairie Dog Brewpub – Calgary Chinook\, 105D 58 Ave SE\, Calgary\, AB\, T2H 0N8\, Canada
CATEGORIES:Trivia
ATTACH;FMTTYPE=image/jpeg:https://prairiedog.bbq.beer/wp-content/uploads/2024/07/Trivia-Night-Promo.jpeg
END:VEVENT
BEGIN:VEVENT
DTSTART;TZID=America/Edmonton:20260619T190000
DTEND;TZID=America/Edmonton:20260619T220000
DTSTAMP:20260419T200813
CREATED:20260116T214523Z
LAST-MODIFIED:20260401T221202Z
UID:10000463-1781895600-1781906400@prairiedog.bbq.beer
SUMMARY:Live On Stage: Christie J Simmons
DESCRIPTION:Christie Simmons is a born-and-bred Calgarian whose original songs seek to capture the joys of the mundane and the magical and give voice to the soft underbelly of life. As one who spent years playing pipes on the highland games circuit\, she can’t deny Celtic undertones in her music. But it’s primarily the literary genius of contemporary writers along with strong\, intelligent lyrics and raw melodies of the roots/Americana world that inform her songwriting today. Along with playing her originals as a solo artist\, Christie plays whistle\, guitar\, ukulele and sings lead and harmony vocals with the upbeat folk/fusion group My Son Ted. \nShe has been raised among colourful characters\, visual artists and writers who\, along with Alberta\, the magnificent province she calls home\, permit her and shape her songs.
URL:https://prairiedog.bbq.beer/event/live-on-stage-christie-j-simmons/
LOCATION:Prairie Dog Brewpub – Calgary Chinook\, 105D 58 Ave SE\, Calgary\, AB\, T2H 0N8\, Canada
CATEGORIES:Live Music
ATTACH;FMTTYPE=image/jpeg:https://prairiedog.bbq.beer/wp-content/uploads/2026/01/zchristiesimmons.jpeg
ORGANIZER;CN="Prairie Dog Brewing Music Team":MAILTO:music@bbq.beer
END:VEVENT
BEGIN:VEVENT
DTSTART;TZID=America/Edmonton:20260620T190000
DTEND;TZID=America/Edmonton:20260620T220000
DTSTAMP:20260419T200813
CREATED:20260414T192740Z
LAST-MODIFIED:20260414T192740Z
UID:10000590-1781982000-1781992800@prairiedog.bbq.beer
SUMMARY:Live On Stage: The Corleones
DESCRIPTION:Say hello to your new favourite cover band. Perfect for events\, with a great skill for reading the room and entertaining any audience\, Don and the Corleones create a great party. Full of throwback favourites\, sing-along tunes\, and just all-around feel-good music\, this is a must see band.\nThey are unique in their additions of classic harmonies\, smooth beats\, and balanced lead guitars\, bringing every song to a whole new level. \nThis is one of the best bands in Calgary for a family outing. Come and enjoy an evening of barbeque\, beer\, and great dance songs\, and let this nostalgia-filled performance carry you away.
URL:https://prairiedog.bbq.beer/event/live-on-stage-the-corleones-2/
LOCATION:Prairie Dog Brewpub – Calgary Chinook\, 105D 58 Ave SE\, Calgary\, AB\, T2H 0N8\, Canada
CATEGORIES:Live Music
ATTACH;FMTTYPE=image/png:https://prairiedog.bbq.beer/wp-content/uploads/2025/07/New-Corleone-Logo-scaled.png
ORGANIZER;CN="Prairie Dog Brewing Music Team":MAILTO:music@bbq.beer
END:VEVENT
BEGIN:VEVENT
DTSTART;TZID=America/Edmonton:20260622T190000
DTEND;TZID=America/Edmonton:20260622T210000
DTSTAMP:20260419T200813
CREATED:20260413T193536Z
LAST-MODIFIED:20260413T200405Z
UID:10000152-1782154800-1782162000@prairiedog.bbq.beer
SUMMARY:Trivia Night
DESCRIPTION:Prairie Dog Brewing is your place for Monday Night Trivia! Join us at 7pm for great food\, drinks\, free Trivia\, Name That Tune\, and prizes!
URL:https://prairiedog.bbq.beer/event/trivia-night-2/2026-06-22/
LOCATION:Prairie Dog Brewpub – Calgary Chinook\, 105D 58 Ave SE\, Calgary\, AB\, T2H 0N8\, Canada
CATEGORIES:Trivia
ATTACH;FMTTYPE=image/jpeg:https://prairiedog.bbq.beer/wp-content/uploads/2024/07/Trivia-Night-Promo.jpeg
END:VEVENT
BEGIN:VEVENT
DTSTART;TZID=America/Edmonton:20260626T190000
DTEND;TZID=America/Edmonton:20260626T220000
DTSTAMP:20260419T200813
CREATED:20260414T193358Z
LAST-MODIFIED:20260414T193358Z
UID:10000591-1782500400-1782511200@prairiedog.bbq.beer
SUMMARY:Live On Stage: Kerry Hunter
DESCRIPTION:Kerry Hunter is a singer-songwriter from Northern Alberta who discovered her passion for music at a young age. Known for her sultry sound and unique vocal talents\, Kerry captivates audiences with a blend of original songs and diverse cover choices. With over a decade of performance experience\, her style draws inspiration from jazz\, soul\, blues\, and punk. Kerry’s original music explores themes of adventure\, love & heartache\, showcasing her songwriting prowess and authenticity.  \nKerry delivers a soulful mix of original songs and thoughtfully chosen covers\, setting the tone no matter the occasion. With powerful vocals and a style that’s all her own\, her music feels both familiar and fresh.
URL:https://prairiedog.bbq.beer/event/live-on-stage-kerry-hunter/
LOCATION:Prairie Dog Brewpub – Calgary Chinook\, 105D 58 Ave SE\, Calgary\, AB\, T2H 0N8\, Canada
CATEGORIES:Live Music
ATTACH;FMTTYPE=image/jpeg:https://prairiedog.bbq.beer/wp-content/uploads/2026/04/kerryhunter1.jpg
ORGANIZER;CN="Prairie Dog Brewing Music Team":MAILTO:music@bbq.beer
END:VEVENT
BEGIN:VEVENT
DTSTART;TZID=America/Edmonton:20260627T190000
DTEND;TZID=America/Edmonton:20260627T220000
DTSTAMP:20260419T200813
CREATED:20260414T193522Z
LAST-MODIFIED:20260414T193522Z
UID:10000592-1782586800-1782597600@prairiedog.bbq.beer
SUMMARY:Live On Stage: Reed Alton
DESCRIPTION:You may remember Reed from his memorable shows with the Habroneros\, Reed and Keaton\, or his world-touring band\, Osyron. His incredible voice\, set list of nostalgic hits\, and super fun stage presence always gets the crowd engaged – hands clapping and feet tapping all around. Come and see him live in a new solo show that promises to be endlessly fun for any music lover.  \nPhoto Credit: Lunar Ring Media
URL:https://prairiedog.bbq.beer/event/live-on-stage-reed-alton-6/
LOCATION:Prairie Dog Brewpub – Calgary Chinook\, 105D 58 Ave SE\, Calgary\, AB\, T2H 0N8\, Canada
CATEGORIES:Live Music
ATTACH;FMTTYPE=image/png:https://prairiedog.bbq.beer/wp-content/uploads/2025/04/Reed2.png
ORGANIZER;CN="Prairie Dog Brewing Music Team":MAILTO:music@bbq.beer
END:VEVENT
BEGIN:VEVENT
DTSTART;TZID=America/Edmonton:20260629T190000
DTEND;TZID=America/Edmonton:20260629T210000
DTSTAMP:20260419T200813
CREATED:20260413T193536Z
LAST-MODIFIED:20260413T200405Z
UID:10000153-1782759600-1782766800@prairiedog.bbq.beer
SUMMARY:Trivia Night
DESCRIPTION:Prairie Dog Brewing is your place for Monday Night Trivia! Join us at 7pm for great food\, drinks\, free Trivia\, Name That Tune\, and prizes!
URL:https://prairiedog.bbq.beer/event/trivia-night-2/2026-06-29/
LOCATION:Prairie Dog Brewpub – Calgary Chinook\, 105D 58 Ave SE\, Calgary\, AB\, T2H 0N8\, Canada
CATEGORIES:Trivia
ATTACH;FMTTYPE=image/jpeg:https://prairiedog.bbq.beer/wp-content/uploads/2024/07/Trivia-Night-Promo.jpeg
END:VEVENT
BEGIN:VEVENT
DTSTART;TZID=America/Edmonton:20260706T190000
DTEND;TZID=America/Edmonton:20260706T210000
DTSTAMP:20260419T200813
CREATED:20260413T193536Z
LAST-MODIFIED:20260413T200405Z
UID:10000154-1783364400-1783371600@prairiedog.bbq.beer
SUMMARY:Trivia Night
DESCRIPTION:Prairie Dog Brewing is your place for Monday Night Trivia! Join us at 7pm for great food\, drinks\, free Trivia\, Name That Tune\, and prizes!
URL:https://prairiedog.bbq.beer/event/trivia-night-2/2026-07-06/
LOCATION:Prairie Dog Brewpub – Calgary Chinook\, 105D 58 Ave SE\, Calgary\, AB\, T2H 0N8\, Canada
CATEGORIES:Trivia
ATTACH;FMTTYPE=image/jpeg:https://prairiedog.bbq.beer/wp-content/uploads/2024/07/Trivia-Night-Promo.jpeg
END:VEVENT
BEGIN:VEVENT
DTSTART;TZID=America/Edmonton:20260710T200000
DTEND;TZID=America/Edmonton:20260710T230000
DTSTAMP:20260419T200813
CREATED:20260414T195611Z
LAST-MODIFIED:20260414T195611Z
UID:10000593-1783713600-1783724400@prairiedog.bbq.beer
SUMMARY:Live On Stage: Alicyn Campbell Band
DESCRIPTION:Alicyn Campbell is a local singer and musician based in Millarville\, Alberta. Her four piece band plays something for everyone: A blend of that OG country sound we all know and love\, with the flare of southern rock and the odd pop and alternative influence. The simplicity of songwriting coming to life and performing original content brought them together to form the Alicyn Campbell Band in 2023. The mix of covers and originals range from stories about life in the western Foothills\, to heartbreak\, and all in between.  \nThis is a feature Stampede show\, so bring your best cowpoke fits\, and get ready to two-step up a storm! \nCheck out her Instagram @alicyncampbell
URL:https://prairiedog.bbq.beer/event/live-on-stage-alicyn-campbell-band/
LOCATION:Prairie Dog Brewpub – Calgary Chinook\, 105D 58 Ave SE\, Calgary\, AB\, T2H 0N8\, Canada
CATEGORIES:Live Music
ORGANIZER;CN="Prairie Dog Brewing Music Team":MAILTO:music@bbq.beer
END:VEVENT
BEGIN:VEVENT
DTSTART;TZID=America/Edmonton:20260711T190000
DTEND;TZID=America/Edmonton:20260711T220000
DTSTAMP:20260419T200813
CREATED:20260414T200931Z
LAST-MODIFIED:20260414T200931Z
UID:10000594-1783796400-1783807200@prairiedog.bbq.beer
SUMMARY:Live On Stage: Eclipse Acoustic Duo
DESCRIPTION:These two talented musicians are passionate about playing a diverse range of music\, from pop hits to classic rock anthems\, and everything in between. What sets them apart is their ability to seamlessly switch between singing in English and Spanish\, bringing a unique and exciting energy to their performances. Whether you’re in the mood for a romantic ballad or a high-energy dance tune\, this duo has got you covered. With their stunning vocals and impressive guitar skills\, they are sure to leave a lasting impression on any audience. Catch them live and experience the magic for yourself! \nThis is a feature Stampede show for anyone who needs a break from the grounds. This duo is known to start a party though\, so come prepared to dance!
URL:https://prairiedog.bbq.beer/event/live-on-stage-eclipse-acoustic-duo-10/
LOCATION:Prairie Dog Brewpub – Calgary Chinook\, 105D 58 Ave SE\, Calgary\, AB\, T2H 0N8\, Canada
CATEGORIES:Live Music
ATTACH;FMTTYPE=image/png:https://prairiedog.bbq.beer/wp-content/uploads/2024/10/Eclipse-Acoustic-Duo.png
ORGANIZER;CN="Prairie Dog Brewing Music Team":MAILTO:music@bbq.beer
END:VEVENT
BEGIN:VEVENT
DTSTART;TZID=America/Edmonton:20260713T190000
DTEND;TZID=America/Edmonton:20260713T210000
DTSTAMP:20260419T200813
CREATED:20260413T193536Z
LAST-MODIFIED:20260413T200405Z
UID:10000155-1783969200-1783976400@prairiedog.bbq.beer
SUMMARY:Trivia Night
DESCRIPTION:Prairie Dog Brewing is your place for Monday Night Trivia! Join us at 7pm for great food\, drinks\, free Trivia\, Name That Tune\, and prizes!
URL:https://prairiedog.bbq.beer/event/trivia-night-2/2026-07-13/
LOCATION:Prairie Dog Brewpub – Calgary Chinook\, 105D 58 Ave SE\, Calgary\, AB\, T2H 0N8\, Canada
CATEGORIES:Trivia
ATTACH;FMTTYPE=image/jpeg:https://prairiedog.bbq.beer/wp-content/uploads/2024/07/Trivia-Night-Promo.jpeg
END:VEVENT
BEGIN:VEVENT
DTSTART;TZID=America/Edmonton:20260720T190000
DTEND;TZID=America/Edmonton:20260720T210000
DTSTAMP:20260419T200813
CREATED:20260413T193536Z
LAST-MODIFIED:20260413T200405Z
UID:10000156-1784574000-1784581200@prairiedog.bbq.beer
SUMMARY:Trivia Night
DESCRIPTION:Prairie Dog Brewing is your place for Monday Night Trivia! Join us at 7pm for great food\, drinks\, free Trivia\, Name That Tune\, and prizes!
URL:https://prairiedog.bbq.beer/event/trivia-night-2/2026-07-20/
LOCATION:Prairie Dog Brewpub – Calgary Chinook\, 105D 58 Ave SE\, Calgary\, AB\, T2H 0N8\, Canada
CATEGORIES:Trivia
ATTACH;FMTTYPE=image/jpeg:https://prairiedog.bbq.beer/wp-content/uploads/2024/07/Trivia-Night-Promo.jpeg
END:VEVENT
BEGIN:VEVENT
DTSTART;TZID=America/Edmonton:20260727T190000
DTEND;TZID=America/Edmonton:20260727T210000
DTSTAMP:20260419T200813
CREATED:20260413T193536Z
LAST-MODIFIED:20260413T200405Z
UID:10000157-1785178800-1785186000@prairiedog.bbq.beer
SUMMARY:Trivia Night
DESCRIPTION:Prairie Dog Brewing is your place for Monday Night Trivia! Join us at 7pm for great food\, drinks\, free Trivia\, Name That Tune\, and prizes!
URL:https://prairiedog.bbq.beer/event/trivia-night-2/2026-07-27/
LOCATION:Prairie Dog Brewpub – Calgary Chinook\, 105D 58 Ave SE\, Calgary\, AB\, T2H 0N8\, Canada
CATEGORIES:Trivia
ATTACH;FMTTYPE=image/jpeg:https://prairiedog.bbq.beer/wp-content/uploads/2024/07/Trivia-Night-Promo.jpeg
END:VEVENT
BEGIN:VEVENT
DTSTART;TZID=America/Edmonton:20260803T190000
DTEND;TZID=America/Edmonton:20260803T210000
DTSTAMP:20260419T200813
CREATED:20260413T193536Z
LAST-MODIFIED:20260413T200405Z
UID:10000158-1785783600-1785790800@prairiedog.bbq.beer
SUMMARY:Trivia Night
DESCRIPTION:Prairie Dog Brewing is your place for Monday Night Trivia! Join us at 7pm for great food\, drinks\, free Trivia\, Name That Tune\, and prizes!
URL:https://prairiedog.bbq.beer/event/trivia-night-2/2026-08-03/
LOCATION:Prairie Dog Brewpub – Calgary Chinook\, 105D 58 Ave SE\, Calgary\, AB\, T2H 0N8\, Canada
CATEGORIES:Trivia
ATTACH;FMTTYPE=image/jpeg:https://prairiedog.bbq.beer/wp-content/uploads/2024/07/Trivia-Night-Promo.jpeg
END:VEVENT
BEGIN:VEVENT
DTSTART;TZID=America/Edmonton:20260810T190000
DTEND;TZID=America/Edmonton:20260810T210000
DTSTAMP:20260419T200813
CREATED:20260413T193536Z
LAST-MODIFIED:20260413T200405Z
UID:10000159-1786388400-1786395600@prairiedog.bbq.beer
SUMMARY:Trivia Night
DESCRIPTION:Prairie Dog Brewing is your place for Monday Night Trivia! Join us at 7pm for great food\, drinks\, free Trivia\, Name That Tune\, and prizes!
URL:https://prairiedog.bbq.beer/event/trivia-night-2/2026-08-10/
LOCATION:Prairie Dog Brewpub – Calgary Chinook\, 105D 58 Ave SE\, Calgary\, AB\, T2H 0N8\, Canada
CATEGORIES:Trivia
ATTACH;FMTTYPE=image/jpeg:https://prairiedog.bbq.beer/wp-content/uploads/2024/07/Trivia-Night-Promo.jpeg
END:VEVENT
BEGIN:VEVENT
DTSTART;TZID=America/Edmonton:20260817T190000
DTEND;TZID=America/Edmonton:20260817T210000
DTSTAMP:20260419T200813
CREATED:20260413T193536Z
LAST-MODIFIED:20260413T200405Z
UID:10000160-1786993200-1787000400@prairiedog.bbq.beer
SUMMARY:Trivia Night
DESCRIPTION:Prairie Dog Brewing is your place for Monday Night Trivia! Join us at 7pm for great food\, drinks\, free Trivia\, Name That Tune\, and prizes!
URL:https://prairiedog.bbq.beer/event/trivia-night-2/2026-08-17/
LOCATION:Prairie Dog Brewpub – Calgary Chinook\, 105D 58 Ave SE\, Calgary\, AB\, T2H 0N8\, Canada
CATEGORIES:Trivia
ATTACH;FMTTYPE=image/jpeg:https://prairiedog.bbq.beer/wp-content/uploads/2024/07/Trivia-Night-Promo.jpeg
END:VEVENT
BEGIN:VEVENT
DTSTART;TZID=America/Edmonton:20260824T190000
DTEND;TZID=America/Edmonton:20260824T210000
DTSTAMP:20260419T200813
CREATED:20260413T193536Z
LAST-MODIFIED:20260413T200405Z
UID:10000161-1787598000-1787605200@prairiedog.bbq.beer
SUMMARY:Trivia Night
DESCRIPTION:Prairie Dog Brewing is your place for Monday Night Trivia! Join us at 7pm for great food\, drinks\, free Trivia\, Name That Tune\, and prizes!
URL:https://prairiedog.bbq.beer/event/trivia-night-2/2026-08-24/
LOCATION:Prairie Dog Brewpub – Calgary Chinook\, 105D 58 Ave SE\, Calgary\, AB\, T2H 0N8\, Canada
CATEGORIES:Trivia
ATTACH;FMTTYPE=image/jpeg:https://prairiedog.bbq.beer/wp-content/uploads/2024/07/Trivia-Night-Promo.jpeg
END:VEVENT
BEGIN:VEVENT
DTSTART;TZID=America/Edmonton:20260831T190000
DTEND;TZID=America/Edmonton:20260831T210000
DTSTAMP:20260419T200813
CREATED:20260413T193536Z
LAST-MODIFIED:20260413T200405Z
UID:10000162-1788202800-1788210000@prairiedog.bbq.beer
SUMMARY:Trivia Night
DESCRIPTION:Prairie Dog Brewing is your place for Monday Night Trivia! Join us at 7pm for great food\, drinks\, free Trivia\, Name That Tune\, and prizes!
URL:https://prairiedog.bbq.beer/event/trivia-night-2/2026-08-31/
LOCATION:Prairie Dog Brewpub – Calgary Chinook\, 105D 58 Ave SE\, Calgary\, AB\, T2H 0N8\, Canada
CATEGORIES:Trivia
ATTACH;FMTTYPE=image/jpeg:https://prairiedog.bbq.beer/wp-content/uploads/2024/07/Trivia-Night-Promo.jpeg
END:VEVENT
BEGIN:VEVENT
DTSTART;TZID=America/Edmonton:20260907T190000
DTEND;TZID=America/Edmonton:20260907T210000
DTSTAMP:20260419T200813
CREATED:20260413T193536Z
LAST-MODIFIED:20260413T200405Z
UID:10000163-1788807600-1788814800@prairiedog.bbq.beer
SUMMARY:Trivia Night
DESCRIPTION:Prairie Dog Brewing is your place for Monday Night Trivia! Join us at 7pm for great food\, drinks\, free Trivia\, Name That Tune\, and prizes!
URL:https://prairiedog.bbq.beer/event/trivia-night-2/2026-09-07/
LOCATION:Prairie Dog Brewpub – Calgary Chinook\, 105D 58 Ave SE\, Calgary\, AB\, T2H 0N8\, Canada
CATEGORIES:Trivia
ATTACH;FMTTYPE=image/jpeg:https://prairiedog.bbq.beer/wp-content/uploads/2024/07/Trivia-Night-Promo.jpeg
END:VEVENT
BEGIN:VEVENT
DTSTART;TZID=America/Edmonton:20260914T190000
DTEND;TZID=America/Edmonton:20260914T210000
DTSTAMP:20260419T200813
CREATED:20260413T193536Z
LAST-MODIFIED:20260413T200405Z
UID:10000164-1789412400-1789419600@prairiedog.bbq.beer
SUMMARY:Trivia Night
DESCRIPTION:Prairie Dog Brewing is your place for Monday Night Trivia! Join us at 7pm for great food\, drinks\, free Trivia\, Name That Tune\, and prizes!
URL:https://prairiedog.bbq.beer/event/trivia-night-2/2026-09-14/
LOCATION:Prairie Dog Brewpub – Calgary Chinook\, 105D 58 Ave SE\, Calgary\, AB\, T2H 0N8\, Canada
CATEGORIES:Trivia
ATTACH;FMTTYPE=image/jpeg:https://prairiedog.bbq.beer/wp-content/uploads/2024/07/Trivia-Night-Promo.jpeg
END:VEVENT
BEGIN:VEVENT
DTSTART;TZID=America/Edmonton:20260921T190000
DTEND;TZID=America/Edmonton:20260921T210000
DTSTAMP:20260419T200813
CREATED:20260413T193536Z
LAST-MODIFIED:20260413T200405Z
UID:10000165-1790017200-1790024400@prairiedog.bbq.beer
SUMMARY:Trivia Night
DESCRIPTION:Prairie Dog Brewing is your place for Monday Night Trivia! Join us at 7pm for great food\, drinks\, free Trivia\, Name That Tune\, and prizes!
URL:https://prairiedog.bbq.beer/event/trivia-night-2/2026-09-21/
LOCATION:Prairie Dog Brewpub – Calgary Chinook\, 105D 58 Ave SE\, Calgary\, AB\, T2H 0N8\, Canada
CATEGORIES:Trivia
ATTACH;FMTTYPE=image/jpeg:https://prairiedog.bbq.beer/wp-content/uploads/2024/07/Trivia-Night-Promo.jpeg
END:VEVENT
BEGIN:VEVENT
DTSTART;TZID=America/Edmonton:20260928T190000
DTEND;TZID=America/Edmonton:20260928T210000
DTSTAMP:20260419T200813
CREATED:20260413T193536Z
LAST-MODIFIED:20260413T200405Z
UID:10000166-1790622000-1790629200@prairiedog.bbq.beer
SUMMARY:Trivia Night
DESCRIPTION:Prairie Dog Brewing is your place for Monday Night Trivia! Join us at 7pm for great food\, drinks\, free Trivia\, Name That Tune\, and prizes!
URL:https://prairiedog.bbq.beer/event/trivia-night-2/2026-09-28/
LOCATION:Prairie Dog Brewpub – Calgary Chinook\, 105D 58 Ave SE\, Calgary\, AB\, T2H 0N8\, Canada
CATEGORIES:Trivia
ATTACH;FMTTYPE=image/jpeg:https://prairiedog.bbq.beer/wp-content/uploads/2024/07/Trivia-Night-Promo.jpeg
END:VEVENT
BEGIN:VEVENT
DTSTART;TZID=America/Edmonton:20261005T190000
DTEND;TZID=America/Edmonton:20261005T210000
DTSTAMP:20260419T200813
CREATED:20260413T193536Z
LAST-MODIFIED:20260413T200405Z
UID:10000167-1791226800-1791234000@prairiedog.bbq.beer
SUMMARY:Trivia Night
DESCRIPTION:Prairie Dog Brewing is your place for Monday Night Trivia! Join us at 7pm for great food\, drinks\, free Trivia\, Name That Tune\, and prizes!
URL:https://prairiedog.bbq.beer/event/trivia-night-2/2026-10-05/
LOCATION:Prairie Dog Brewpub – Calgary Chinook\, 105D 58 Ave SE\, Calgary\, AB\, T2H 0N8\, Canada
CATEGORIES:Trivia
ATTACH;FMTTYPE=image/jpeg:https://prairiedog.bbq.beer/wp-content/uploads/2024/07/Trivia-Night-Promo.jpeg
END:VEVENT
BEGIN:VEVENT
DTSTART;TZID=America/Edmonton:20261012T190000
DTEND;TZID=America/Edmonton:20261012T210000
DTSTAMP:20260419T200813
CREATED:20260413T193536Z
LAST-MODIFIED:20260413T200405Z
UID:10000168-1791831600-1791838800@prairiedog.bbq.beer
SUMMARY:Trivia Night
DESCRIPTION:Prairie Dog Brewing is your place for Monday Night Trivia! Join us at 7pm for great food\, drinks\, free Trivia\, Name That Tune\, and prizes!
URL:https://prairiedog.bbq.beer/event/trivia-night-2/2026-10-12/
LOCATION:Prairie Dog Brewpub – Calgary Chinook\, 105D 58 Ave SE\, Calgary\, AB\, T2H 0N8\, Canada
CATEGORIES:Trivia
ATTACH;FMTTYPE=image/jpeg:https://prairiedog.bbq.beer/wp-content/uploads/2024/07/Trivia-Night-Promo.jpeg
END:VEVENT
BEGIN:VEVENT
DTSTART;TZID=America/Edmonton:20261019T190000
DTEND;TZID=America/Edmonton:20261019T210000
DTSTAMP:20260419T200813
CREATED:20260413T193536Z
LAST-MODIFIED:20260413T200405Z
UID:10000169-1792436400-1792443600@prairiedog.bbq.beer
SUMMARY:Trivia Night
DESCRIPTION:Prairie Dog Brewing is your place for Monday Night Trivia! Join us at 7pm for great food\, drinks\, free Trivia\, Name That Tune\, and prizes!
URL:https://prairiedog.bbq.beer/event/trivia-night-2/2026-10-19/
LOCATION:Prairie Dog Brewpub – Calgary Chinook\, 105D 58 Ave SE\, Calgary\, AB\, T2H 0N8\, Canada
CATEGORIES:Trivia
ATTACH;FMTTYPE=image/jpeg:https://prairiedog.bbq.beer/wp-content/uploads/2024/07/Trivia-Night-Promo.jpeg
END:VEVENT
BEGIN:VEVENT
DTSTART;TZID=America/Edmonton:20261026T190000
DTEND;TZID=America/Edmonton:20261026T210000
DTSTAMP:20260419T200813
CREATED:20260413T193536Z
LAST-MODIFIED:20260413T200405Z
UID:10000170-1793041200-1793048400@prairiedog.bbq.beer
SUMMARY:Trivia Night
DESCRIPTION:Prairie Dog Brewing is your place for Monday Night Trivia! Join us at 7pm for great food\, drinks\, free Trivia\, Name That Tune\, and prizes!
URL:https://prairiedog.bbq.beer/event/trivia-night-2/2026-10-26/
LOCATION:Prairie Dog Brewpub – Calgary Chinook\, 105D 58 Ave SE\, Calgary\, AB\, T2H 0N8\, Canada
CATEGORIES:Trivia
ATTACH;FMTTYPE=image/jpeg:https://prairiedog.bbq.beer/wp-content/uploads/2024/07/Trivia-Night-Promo.jpeg
END:VEVENT
BEGIN:VEVENT
DTSTART;TZID=America/Edmonton:20261102T190000
DTEND;TZID=America/Edmonton:20261102T210000
DTSTAMP:20260419T200813
CREATED:20260413T193536Z
LAST-MODIFIED:20260413T200405Z
UID:10000171-1793646000-1793653200@prairiedog.bbq.beer
SUMMARY:Trivia Night
DESCRIPTION:Prairie Dog Brewing is your place for Monday Night Trivia! Join us at 7pm for great food\, drinks\, free Trivia\, Name That Tune\, and prizes!
URL:https://prairiedog.bbq.beer/event/trivia-night-2/2026-11-02/
LOCATION:Prairie Dog Brewpub – Calgary Chinook\, 105D 58 Ave SE\, Calgary\, AB\, T2H 0N8\, Canada
CATEGORIES:Trivia
ATTACH;FMTTYPE=image/jpeg:https://prairiedog.bbq.beer/wp-content/uploads/2024/07/Trivia-Night-Promo.jpeg
END:VEVENT
BEGIN:VEVENT
DTSTART;TZID=America/Edmonton:20261109T190000
DTEND;TZID=America/Edmonton:20261109T210000
DTSTAMP:20260419T200813
CREATED:20260413T193536Z
LAST-MODIFIED:20260413T200405Z
UID:10000172-1794250800-1794258000@prairiedog.bbq.beer
SUMMARY:Trivia Night
DESCRIPTION:Prairie Dog Brewing is your place for Monday Night Trivia! Join us at 7pm for great food\, drinks\, free Trivia\, Name That Tune\, and prizes!
URL:https://prairiedog.bbq.beer/event/trivia-night-2/2026-11-09/
LOCATION:Prairie Dog Brewpub – Calgary Chinook\, 105D 58 Ave SE\, Calgary\, AB\, T2H 0N8\, Canada
CATEGORIES:Trivia
ATTACH;FMTTYPE=image/jpeg:https://prairiedog.bbq.beer/wp-content/uploads/2024/07/Trivia-Night-Promo.jpeg
END:VEVENT
BEGIN:VEVENT
DTSTART;TZID=America/Edmonton:20261116T190000
DTEND;TZID=America/Edmonton:20261116T210000
DTSTAMP:20260419T200813
CREATED:20260413T193536Z
LAST-MODIFIED:20260413T200405Z
UID:10000173-1794855600-1794862800@prairiedog.bbq.beer
SUMMARY:Trivia Night
DESCRIPTION:Prairie Dog Brewing is your place for Monday Night Trivia! Join us at 7pm for great food\, drinks\, free Trivia\, Name That Tune\, and prizes!
URL:https://prairiedog.bbq.beer/event/trivia-night-2/2026-11-16/
LOCATION:Prairie Dog Brewpub – Calgary Chinook\, 105D 58 Ave SE\, Calgary\, AB\, T2H 0N8\, Canada
CATEGORIES:Trivia
ATTACH;FMTTYPE=image/jpeg:https://prairiedog.bbq.beer/wp-content/uploads/2024/07/Trivia-Night-Promo.jpeg
END:VEVENT
BEGIN:VEVENT
DTSTART;TZID=America/Edmonton:20261123T190000
DTEND;TZID=America/Edmonton:20261123T210000
DTSTAMP:20260419T200813
CREATED:20260413T193536Z
LAST-MODIFIED:20260413T200405Z
UID:10000174-1795460400-1795467600@prairiedog.bbq.beer
SUMMARY:Trivia Night
DESCRIPTION:Prairie Dog Brewing is your place for Monday Night Trivia! Join us at 7pm for great food\, drinks\, free Trivia\, Name That Tune\, and prizes!
URL:https://prairiedog.bbq.beer/event/trivia-night-2/2026-11-23/
LOCATION:Prairie Dog Brewpub – Calgary Chinook\, 105D 58 Ave SE\, Calgary\, AB\, T2H 0N8\, Canada
CATEGORIES:Trivia
ATTACH;FMTTYPE=image/jpeg:https://prairiedog.bbq.beer/wp-content/uploads/2024/07/Trivia-Night-Promo.jpeg
END:VEVENT
END:VCALENDAR