BEGIN:VCALENDAR
VERSION:2.0
PRODID:-//Prairie Dog Brewing - ECPv6.15.20//NONSGML v1.0//EN
CALSCALE:GREGORIAN
METHOD:PUBLISH
X-WR-CALNAME:Prairie Dog Brewing
X-ORIGINAL-URL:https://prairiedog.bbq.beer
X-WR-CALDESC:Events for Prairie Dog Brewing
REFRESH-INTERVAL;VALUE=DURATION:PT1H
X-Robots-Tag:noindex
X-PUBLISHED-TTL:PT1H
BEGIN:VTIMEZONE
TZID:America/Edmonton
BEGIN:DAYLIGHT
TZOFFSETFROM:-0700
TZOFFSETTO:-0600
TZNAME:MDT
DTSTART:20240310T090000
END:DAYLIGHT
BEGIN:STANDARD
TZOFFSETFROM:-0600
TZOFFSETTO:-0700
TZNAME:MST
DTSTART:20241103T080000
END:STANDARD
BEGIN:DAYLIGHT
TZOFFSETFROM:-0700
TZOFFSETTO:-0600
TZNAME:MDT
DTSTART:20250309T090000
END:DAYLIGHT
BEGIN:STANDARD
TZOFFSETFROM:-0600
TZOFFSETTO:-0700
TZNAME:MST
DTSTART:20251102T080000
END:STANDARD
BEGIN:DAYLIGHT
TZOFFSETFROM:-0700
TZOFFSETTO:-0600
TZNAME:MDT
DTSTART:20260308T090000
END:DAYLIGHT
BEGIN:STANDARD
TZOFFSETFROM:-0600
TZOFFSETTO:-0700
TZNAME:MST
DTSTART:20261101T080000
END:STANDARD
END:VTIMEZONE
BEGIN:VEVENT
DTSTART;TZID=America/Edmonton:20251101T190000
DTEND;TZID=America/Edmonton:20251101T220000
DTSTAMP:20260421T024958
CREATED:20250929T174458Z
LAST-MODIFIED:20250929T174458Z
UID:10000420-1762023600-1762034400@prairiedog.bbq.beer
SUMMARY:Live On Stage: Eclipse Acoustic Duo
DESCRIPTION:These two talented musicians are passionate about playing a diverse range of music\, from pop hits to classic rock anthems\, and everything in between. What sets them apart is their ability to seamlessly switch between singing in English and Spanish\, bringing a unique and exciting energy to their performances. Whether you’re in the mood for a romantic ballad or a high-energy dance tune\, this duo has got you covered. With their stunning vocals and impressive guitar skills\, they are sure to leave a lasting impression on any audience. Catch them live and experience the magic for yourself!
URL:https://prairiedog.bbq.beer/event/live-on-stage-eclipse-acoustic-duo-6/
LOCATION:Prairie Dog Brewpub – Calgary Chinook\, 105D 58 Ave SE\, Calgary\, AB\, T2H 0N8\, Canada
CATEGORIES:Live Music
ATTACH;FMTTYPE=image/png:https://prairiedog.bbq.beer/wp-content/uploads/2024/10/Eclipse-Acoustic-Duo.png
ORGANIZER;CN="Prairie Dog Brewing Music Team":MAILTO:music@bbq.beer
END:VEVENT
BEGIN:VEVENT
DTSTART;TZID=America/Edmonton:20251103T190000
DTEND;TZID=America/Edmonton:20251103T210000
DTSTAMP:20260421T024958
CREATED:20241205T033329Z
LAST-MODIFIED:20260311T185301Z
UID:10000119-1762196400-1762203600@prairiedog.bbq.beer
SUMMARY:Trivia Night
DESCRIPTION:Prairie Dog Brewing is your place for Monday Night Trivia! Join us at 7pm for great food\, drinks\, free Trivia\, Name That Tune\, and prizes!
URL:https://prairiedog.bbq.beer/event/trivia-night/2025-11-03/
LOCATION:Prairie Dog Brewpub – Calgary Chinook\, 105D 58 Ave SE\, Calgary\, AB\, T2H 0N8\, Canada
CATEGORIES:Trivia
ATTACH;FMTTYPE=image/jpeg:https://prairiedog.bbq.beer/wp-content/uploads/2024/07/Trivia-Night-Promo.jpeg
END:VEVENT
BEGIN:VEVENT
DTSTART;TZID=America/Edmonton:20251104T180000
DTEND;TZID=America/Edmonton:20251104T220000
DTSTAMP:20260421T024958
CREATED:20251017T175744Z
LAST-MODIFIED:20251017T175957Z
UID:10000429-1762279200-1762293600@prairiedog.bbq.beer
SUMMARY:Beer Soap Making with Bowness Soapworks
DESCRIPTION:Indulge in making your own traditional cold processed beer soap with Prairie Dog Brewing and Calgary’s famous adventure soap company for a unique soap making event. DIY soap is the perfect self indulgent activity OR they also make the perfect gift *Ahem* gift giving season is almost here!  \nLearn the basics of traditional cold process soap making\, while exploring your own creative side. \n– Take home approximately 1lb of soap / to complete curing process at home.\n– Guests will receive $10 gift card to Prairie Dog Brewing  \n Get your tickets today  \nSafety materials will be provided *PPE\, safety glasses\, gloves. \n*Minimum 6 registered guests for workshops to run- events will be cancelled in the case of less than 6 registered guests \n*must be minimum 18 years old to participate. \n**24hr cancellation policy for full refund.  \n***Guests must wear long sleeves\, pants and closed toe shoes. We reserve the right to refuse attendance if participants do not arrive in required attire. \nTo find all the workshops and fun activities happening at Prairie Dog Brewing check out our events page
URL:https://prairiedog.bbq.beer/event/beer-soap-making-with-bowness-soapworks-2/
LOCATION:Prairie Dog Brewpub – Calgary Chinook\, 105D 58 Ave SE\, Calgary\, AB\, T2H 0N8\, Canada
CATEGORIES:Educational Workshops,In-Pub Entertainment
ATTACH;FMTTYPE=image/webp:https://prairiedog.bbq.beer/wp-content/uploads/2025/09/bowness-soapworks-two.webp
ORGANIZER;CN="Prairie Dog Brewing Events Team":MAILTO:events@prairiedogbrewing.ca
END:VEVENT
BEGIN:VEVENT
DTSTART;TZID=America/Edmonton:20251107T193000
DTEND;TZID=America/Edmonton:20251107T223000
DTSTAMP:20260421T024958
CREATED:20250929T173055Z
LAST-MODIFIED:20250929T173055Z
UID:10000419-1762543800-1762554600@prairiedog.bbq.beer
SUMMARY:On Stage: The Lost Prospectors
DESCRIPTION:Hailing from the foothills of Southern Alberta\, where the grass is blue and the songs ring true\, The Lost Prospectors are here to share their tunes with the world! \nThese four country gentlemen have spent years panning the rivers of song in search of bluegrass gold\, and have returned from the musical wilderness with only the most tuneful nuggets of classic and contemporary bluegrass for your listening pleasure. \nStrike it rich with the Lost Prospectors! \n​
URL:https://prairiedog.bbq.beer/event/on-stage-the-lost-prospectors/
LOCATION:Prairie Dog Brewpub – Calgary Chinook\, 105D 58 Ave SE\, Calgary\, AB\, T2H 0N8\, Canada
CATEGORIES:Live Music
ATTACH;FMTTYPE=image/jpeg:https://prairiedog.bbq.beer/wp-content/uploads/2025/09/Prairie-Dog-Brewpub-poster2-scaled.jpg
ORGANIZER;CN="Prairie Dog Brewing Music Team":MAILTO:music@bbq.beer
END:VEVENT
BEGIN:VEVENT
DTSTART;TZID=America/Edmonton:20251108T200000
DTEND;TZID=America/Edmonton:20251108T230000
DTSTAMP:20260421T024958
CREATED:20251105T211849Z
LAST-MODIFIED:20251105T212140Z
UID:10000436-1762632000-1762642800@prairiedog.bbq.beer
SUMMARY:Live on Stage: 'Na Seanachie'
DESCRIPTION:‘Na Seanachie’ is Gaelic for “Storytellers”. This band plays a mix of “anything really” from folk to Celtic to contemporary with an acoustic vibe. Come for the great music\, barbeque\, and beer and get the full Celtic pub experience with these talented musicians. They are also the featured artists for Monthly Celtic Pub Night at the Irish Cultural Society of Calgary! \nThe lead\, Kevin Friel\, hails from West of Scotland\, moving to Alberta 9 years ago after a decade in the West of Ireland. Kevin has been singing around the Scottish and Irish music scene for many years\, picking up an ‘eclectic’ mix of songs n stories along the road. Along with him he bring two friends to round out the band’s sound. This is a trio you won’t want to miss!
URL:https://prairiedog.bbq.beer/event/live-on-stage-na-seanachie/
LOCATION:Prairie Dog Brewpub – Calgary Chinook\, 105D 58 Ave SE\, Calgary\, AB\, T2H 0N8\, Canada
CATEGORIES:Live Music
ATTACH;FMTTYPE=image/jpeg:https://prairiedog.bbq.beer/wp-content/uploads/2025/11/NaSeanachieKevin-Dan.jpg
ORGANIZER;CN="Prairie Dog Brewing Music Team":MAILTO:music@bbq.beer
END:VEVENT
BEGIN:VEVENT
DTSTART;TZID=America/Edmonton:20251108T200000
DTEND;TZID=America/Edmonton:20251108T230000
DTSTAMP:20260421T024958
CREATED:20251108T175827Z
LAST-MODIFIED:20251108T175921Z
UID:10000437-1762632000-1762642800@prairiedog.bbq.beer
SUMMARY:Live on Stage: 'Na Seanachie'
DESCRIPTION:‘Na Seanachie’ is Gaelic for “Storytellers”. This band plays a mix of “anything really” from folk to Celtic to contemporary with an acoustic vibe. Come for the great music\, barbeque\, and beer and get the full Celtic pub experience with these talented musicians. They are also the featured artists for Monthly Celtic Pub Night at the Irish Cultural Society of Calgary! \nThe lead\, Kevin Friel\, hails from West of Scotland\, moving to Alberta 9 years ago after a decade in the West of Ireland. Kevin has been singing around the Scottish and Irish music scene for many years\, picking up an ‘eclectic’ mix of songs n stories along the road. Along with him he bring two friends to round out the band’s sound. This is a trio you won’t want to miss!
URL:https://prairiedog.bbq.beer/event/live-on-stage-na-seanachie-2/
LOCATION:AB
ATTACH;FMTTYPE=image/jpeg:https://prairiedog.bbq.beer/wp-content/uploads/2025/11/NaSeanachieKevin-Dan.jpg
END:VEVENT
BEGIN:VEVENT
DTSTART;TZID=America/Edmonton:20251110T190000
DTEND;TZID=America/Edmonton:20251110T210000
DTSTAMP:20260421T024958
CREATED:20241205T033329Z
LAST-MODIFIED:20260311T185301Z
UID:10000120-1762801200-1762808400@prairiedog.bbq.beer
SUMMARY:Trivia Night
DESCRIPTION:Prairie Dog Brewing is your place for Monday Night Trivia! Join us at 7pm for great food\, drinks\, free Trivia\, Name That Tune\, and prizes!
URL:https://prairiedog.bbq.beer/event/trivia-night/2025-11-10/
LOCATION:Prairie Dog Brewpub – Calgary Chinook\, 105D 58 Ave SE\, Calgary\, AB\, T2H 0N8\, Canada
CATEGORIES:Trivia
ATTACH;FMTTYPE=image/jpeg:https://prairiedog.bbq.beer/wp-content/uploads/2024/07/Trivia-Night-Promo.jpeg
END:VEVENT
BEGIN:VEVENT
DTSTART;TZID=America/Edmonton:20251114T200000
DTEND;TZID=America/Edmonton:20251114T230000
DTSTAMP:20260421T024958
CREATED:20251002T023425Z
LAST-MODIFIED:20251002T023425Z
UID:10000424-1763150400-1763161200@prairiedog.bbq.beer
SUMMARY:Live On Stage: The Kimberlites
DESCRIPTION:The Kimberlites are a must-see Calgary band for fans of Celtic\, Cajun\, and Zydeco. This fusion creates what can only be described as a musical jambalaya\, a sensory feast that is both exhilarating and deeply moving. They feature an electric accordion\, and great harmonies backed by a four or five-piece band. Their set is full of songs that get you tapping you foot\, and inspire many fans to get up and dance.  \nThis may be your new favourite Calgary band! Come check them out and try some of our new rotating taps while you’re here!
URL:https://prairiedog.bbq.beer/event/live-on-stage-the-kimberlites-3/
LOCATION:Prairie Dog Brewpub – Calgary Chinook\, 105D 58 Ave SE\, Calgary\, AB\, T2H 0N8\, Canada
CATEGORIES:Live Music
ATTACH;FMTTYPE=image/png:https://prairiedog.bbq.beer/wp-content/uploads/2025/02/Kimberlites-PaddysDay2-e1772134084118.png
ORGANIZER;CN="Prairie Dog Brewing Music Team":MAILTO:music@bbq.beer
END:VEVENT
BEGIN:VEVENT
DTSTART;TZID=America/Edmonton:20251115T200000
DTEND;TZID=America/Edmonton:20251115T230000
DTSTAMP:20260421T024958
CREATED:20251010T015518Z
LAST-MODIFIED:20251010T015518Z
UID:10000427-1763236800-1763247600@prairiedog.bbq.beer
SUMMARY:Jeff Catto and friends: Family Christmas Fundraiser
DESCRIPTION:This will be a fantastic concert to ring in the festive season with Jeff Catto – featuring his very talented friends like Lauren Mayell and Josh Dillon just to name a few! Tickets are by donation. More details to come. Reservations are always recommended as seating is limited – ask for a spot near the stage! \nA message from Jeff: \n“Well howdy 🤠\, each year I help families in our community with Christmas Hampers\, so I am doing a show to support it. I’m so glad to partner with Prairie Dog Brewing as they will host the event. I’ll be asking some friends to join me as well!  Let’s do good this Christmas.” – Jeff Catto
URL:https://prairiedog.bbq.beer/event/jeff-catto-and-friends-family-christmas-fundraiser/
LOCATION:Prairie Dog Brewpub – Calgary Chinook\, 105D 58 Ave SE\, Calgary\, AB\, T2H 0N8\, Canada
CATEGORIES:Live Music
ATTACH;FMTTYPE=image/jpeg:https://prairiedog.bbq.beer/wp-content/uploads/2025/10/Christmas-Hamper-Prairie-Dog.jpg
ORGANIZER;CN="Prairie Dog Brewing Music Team":MAILTO:music@bbq.beer
END:VEVENT
BEGIN:VEVENT
DTSTART;TZID=America/Edmonton:20251117T190000
DTEND;TZID=America/Edmonton:20251117T210000
DTSTAMP:20260421T024958
CREATED:20241205T033329Z
LAST-MODIFIED:20260311T185301Z
UID:10000121-1763406000-1763413200@prairiedog.bbq.beer
SUMMARY:Trivia Night
DESCRIPTION:Prairie Dog Brewing is your place for Monday Night Trivia! Join us at 7pm for great food\, drinks\, free Trivia\, Name That Tune\, and prizes!
URL:https://prairiedog.bbq.beer/event/trivia-night/2025-11-17/
LOCATION:Prairie Dog Brewpub – Calgary Chinook\, 105D 58 Ave SE\, Calgary\, AB\, T2H 0N8\, Canada
CATEGORIES:Trivia
ATTACH;FMTTYPE=image/jpeg:https://prairiedog.bbq.beer/wp-content/uploads/2024/07/Trivia-Night-Promo.jpeg
END:VEVENT
BEGIN:VEVENT
DTSTART;TZID=America/Edmonton:20251121T190000
DTEND;TZID=America/Edmonton:20251121T220000
DTSTAMP:20260421T024958
CREATED:20251002T023548Z
LAST-MODIFIED:20251108T180310Z
UID:10000425-1763751600-1763762400@prairiedog.bbq.beer
SUMMARY:Live On Stage: Brett Cassidy
DESCRIPTION:Brett Cassidy is a Calgary\, AB-based multi-instrumentalist that has spent the past decade honing his songcraft as part of a bevy of bands\, playing folk\, country\, indie\, and rock music across Canada. Now\, for the first time\, he has stepped out from the comfort of the background with guitar\, and sometimes banjo in tow\, to play solo songs that combine his favourite bits of all those genres. Drawing as much inspiration from traditional American folk and country music as he does from psychedelic drones\, Cassidy’s songs create a space for those forgotten in time to stomp their feet alongside a suitcase kick drum.  \nYou can often catch him weaving heartbroken cowboy songs of yesteryear from the likes of Townes Van Zandt\, Marty Robbins\, and Hank Williams into his set.
URL:https://prairiedog.bbq.beer/event/live-on-stage-brett-cassidy-2/
LOCATION:Prairie Dog Brewpub – Calgary Chinook\, 105D 58 Ave SE\, Calgary\, AB\, T2H 0N8\, Canada
CATEGORIES:Live Music
ATTACH;FMTTYPE=image/jpeg:https://prairiedog.bbq.beer/wp-content/uploads/2025/02/Brett-Cassidy.jpg
ORGANIZER;CN="Prairie Dog Brewing Music Team":MAILTO:music@bbq.beer
END:VEVENT
BEGIN:VEVENT
DTSTART;TZID=America/Edmonton:20251122T180000
DTEND;TZID=America/Edmonton:20251122T233000
DTSTAMP:20260421T024958
CREATED:20251018T215454Z
LAST-MODIFIED:20251018T221413Z
UID:10000433-1763834400-1763854200@prairiedog.bbq.beer
SUMMARY:30th Annual Christmas Phling
DESCRIPTION:The Calgary Parrot Head Club presents their 30th Annual Christmas Phling! \nJoin us on November 22nd for the Christmas Phling! A Charity Fundraiser Christmas Party – eat\, drink\, and dance the evening away with live music and prizes!\nEnter one or all of the SILENT AUCTION\, 50/50\, or RAFFLE for fantastic prizes! All proceeds to Seniors Secret Service: Helping senior citizens have a wonderful Christmas! \nFeaturing music by: pH Unbalanced Band – starting at 7:30! \nTickets are $10.00 for members and $20.00 for non-members. For Tickets email calgaryparrotheadclub@gmail.com\nFor more information check out the Calgary Parrot Head Club!
URL:https://prairiedog.bbq.beer/event/30th-annual-christmas-phling/
LOCATION:Prairie Dog Brewpub – Calgary Chinook\, 105D 58 Ave SE\, Calgary\, AB\, T2H 0N8\, Canada
CATEGORIES:Brewpub Closures,In-Pub Entertainment,Live Music
ATTACH;FMTTYPE=image/png:https://prairiedog.bbq.beer/wp-content/uploads/2025/10/Christmas-Phling-Poster-2025b.png
ORGANIZER;CN="Prairie Dog Brewing Events Team":MAILTO:events@prairiedogbrewing.ca
END:VEVENT
BEGIN:VEVENT
DTSTART;TZID=America/Edmonton:20251124T190000
DTEND;TZID=America/Edmonton:20251124T210000
DTSTAMP:20260421T024958
CREATED:20241205T033329Z
LAST-MODIFIED:20260311T185301Z
UID:10000122-1764010800-1764018000@prairiedog.bbq.beer
SUMMARY:Trivia Night
DESCRIPTION:Prairie Dog Brewing is your place for Monday Night Trivia! Join us at 7pm for great food\, drinks\, free Trivia\, Name That Tune\, and prizes!
URL:https://prairiedog.bbq.beer/event/trivia-night/2025-11-24/
LOCATION:Prairie Dog Brewpub – Calgary Chinook\, 105D 58 Ave SE\, Calgary\, AB\, T2H 0N8\, Canada
CATEGORIES:Trivia
ATTACH;FMTTYPE=image/jpeg:https://prairiedog.bbq.beer/wp-content/uploads/2024/07/Trivia-Night-Promo.jpeg
END:VEVENT
BEGIN:VEVENT
DTSTART;TZID=America/Edmonton:20251129T190000
DTEND;TZID=America/Edmonton:20251129T220000
DTSTAMP:20260421T024958
CREATED:20251002T023639Z
LAST-MODIFIED:20251002T023639Z
UID:10000426-1764442800-1764453600@prairiedog.bbq.beer
SUMMARY:Live On Stage: Reed Alton
DESCRIPTION:You may remember Reed from his memorable shows with the Habroneros\, Reed and Keaton\, or his world-touring band\, Osyron. His incredible voice\, set list of nostalgic hits\, and super fun stage presence always gets the crowd engaged – hands clapping and feet tapping all around. Come and see him live in a new solo show that promises to be endlessly fun for any music lover.
URL:https://prairiedog.bbq.beer/event/live-on-stage-reed-alton-2/
LOCATION:Prairie Dog Brewpub – Calgary Chinook\, 105D 58 Ave SE\, Calgary\, AB\, T2H 0N8\, Canada
CATEGORIES:Live Music
ATTACH;FMTTYPE=image/png:https://prairiedog.bbq.beer/wp-content/uploads/2025/04/Reed2.png
ORGANIZER;CN="Prairie Dog Brewing Music Team":MAILTO:music@bbq.beer
END:VEVENT
END:VCALENDAR