BEGIN:VCALENDAR
VERSION:2.0
PRODID:-//Prairie Dog Brewing - ECPv6.15.20//NONSGML v1.0//EN
CALSCALE:GREGORIAN
METHOD:PUBLISH
X-WR-CALNAME:Prairie Dog Brewing
X-ORIGINAL-URL:https://prairiedog.bbq.beer
X-WR-CALDESC:Events for Prairie Dog Brewing
REFRESH-INTERVAL;VALUE=DURATION:PT1H
X-Robots-Tag:noindex
X-PUBLISHED-TTL:PT1H
BEGIN:VTIMEZONE
TZID:America/Edmonton
BEGIN:DAYLIGHT
TZOFFSETFROM:-0700
TZOFFSETTO:-0600
TZNAME:MDT
DTSTART:20250309T090000
END:DAYLIGHT
BEGIN:STANDARD
TZOFFSETFROM:-0600
TZOFFSETTO:-0700
TZNAME:MST
DTSTART:20251102T080000
END:STANDARD
BEGIN:DAYLIGHT
TZOFFSETFROM:-0700
TZOFFSETTO:-0600
TZNAME:MDT
DTSTART:20260308T090000
END:DAYLIGHT
BEGIN:STANDARD
TZOFFSETFROM:-0600
TZOFFSETTO:-0700
TZNAME:MST
DTSTART:20261101T080000
END:STANDARD
BEGIN:DAYLIGHT
TZOFFSETFROM:-0700
TZOFFSETTO:-0600
TZNAME:MDT
DTSTART:20270314T090000
END:DAYLIGHT
BEGIN:STANDARD
TZOFFSETFROM:-0600
TZOFFSETTO:-0700
TZNAME:MST
DTSTART:20271107T080000
END:STANDARD
END:VTIMEZONE
BEGIN:VEVENT
DTSTART;TZID=America/Edmonton:20260803T190000
DTEND;TZID=America/Edmonton:20260803T210000
DTSTAMP:20260421T115443
CREATED:20260413T193536Z
LAST-MODIFIED:20260413T200405Z
UID:10000158-1785783600-1785790800@prairiedog.bbq.beer
SUMMARY:Trivia Night
DESCRIPTION:Prairie Dog Brewing is your place for Monday Night Trivia! Join us at 7pm for great food\, drinks\, free Trivia\, Name That Tune\, and prizes!
URL:https://prairiedog.bbq.beer/event/trivia-night-2/2026-08-03/
LOCATION:Prairie Dog Brewpub – Calgary Chinook\, 105D 58 Ave SE\, Calgary\, AB\, T2H 0N8\, Canada
CATEGORIES:Trivia
ATTACH;FMTTYPE=image/jpeg:https://prairiedog.bbq.beer/wp-content/uploads/2024/07/Trivia-Night-Promo.jpeg
END:VEVENT
BEGIN:VEVENT
DTSTART;TZID=America/Edmonton:20260810T190000
DTEND;TZID=America/Edmonton:20260810T210000
DTSTAMP:20260421T115443
CREATED:20260413T193536Z
LAST-MODIFIED:20260413T200405Z
UID:10000159-1786388400-1786395600@prairiedog.bbq.beer
SUMMARY:Trivia Night
DESCRIPTION:Prairie Dog Brewing is your place for Monday Night Trivia! Join us at 7pm for great food\, drinks\, free Trivia\, Name That Tune\, and prizes!
URL:https://prairiedog.bbq.beer/event/trivia-night-2/2026-08-10/
LOCATION:Prairie Dog Brewpub – Calgary Chinook\, 105D 58 Ave SE\, Calgary\, AB\, T2H 0N8\, Canada
CATEGORIES:Trivia
ATTACH;FMTTYPE=image/jpeg:https://prairiedog.bbq.beer/wp-content/uploads/2024/07/Trivia-Night-Promo.jpeg
END:VEVENT
BEGIN:VEVENT
DTSTART;TZID=America/Edmonton:20260817T190000
DTEND;TZID=America/Edmonton:20260817T210000
DTSTAMP:20260421T115443
CREATED:20260413T193536Z
LAST-MODIFIED:20260413T200405Z
UID:10000160-1786993200-1787000400@prairiedog.bbq.beer
SUMMARY:Trivia Night
DESCRIPTION:Prairie Dog Brewing is your place for Monday Night Trivia! Join us at 7pm for great food\, drinks\, free Trivia\, Name That Tune\, and prizes!
URL:https://prairiedog.bbq.beer/event/trivia-night-2/2026-08-17/
LOCATION:Prairie Dog Brewpub – Calgary Chinook\, 105D 58 Ave SE\, Calgary\, AB\, T2H 0N8\, Canada
CATEGORIES:Trivia
ATTACH;FMTTYPE=image/jpeg:https://prairiedog.bbq.beer/wp-content/uploads/2024/07/Trivia-Night-Promo.jpeg
END:VEVENT
BEGIN:VEVENT
DTSTART;TZID=America/Edmonton:20260824T190000
DTEND;TZID=America/Edmonton:20260824T210000
DTSTAMP:20260421T115443
CREATED:20260413T193536Z
LAST-MODIFIED:20260413T200405Z
UID:10000161-1787598000-1787605200@prairiedog.bbq.beer
SUMMARY:Trivia Night
DESCRIPTION:Prairie Dog Brewing is your place for Monday Night Trivia! Join us at 7pm for great food\, drinks\, free Trivia\, Name That Tune\, and prizes!
URL:https://prairiedog.bbq.beer/event/trivia-night-2/2026-08-24/
LOCATION:Prairie Dog Brewpub – Calgary Chinook\, 105D 58 Ave SE\, Calgary\, AB\, T2H 0N8\, Canada
CATEGORIES:Trivia
ATTACH;FMTTYPE=image/jpeg:https://prairiedog.bbq.beer/wp-content/uploads/2024/07/Trivia-Night-Promo.jpeg
END:VEVENT
BEGIN:VEVENT
DTSTART;TZID=America/Edmonton:20260831T190000
DTEND;TZID=America/Edmonton:20260831T210000
DTSTAMP:20260421T115443
CREATED:20260413T193536Z
LAST-MODIFIED:20260413T200405Z
UID:10000162-1788202800-1788210000@prairiedog.bbq.beer
SUMMARY:Trivia Night
DESCRIPTION:Prairie Dog Brewing is your place for Monday Night Trivia! Join us at 7pm for great food\, drinks\, free Trivia\, Name That Tune\, and prizes!
URL:https://prairiedog.bbq.beer/event/trivia-night-2/2026-08-31/
LOCATION:Prairie Dog Brewpub – Calgary Chinook\, 105D 58 Ave SE\, Calgary\, AB\, T2H 0N8\, Canada
CATEGORIES:Trivia
ATTACH;FMTTYPE=image/jpeg:https://prairiedog.bbq.beer/wp-content/uploads/2024/07/Trivia-Night-Promo.jpeg
END:VEVENT
END:VCALENDAR