BEGIN:VCALENDAR
VERSION:2.0
PRODID:-//Prairie Dog Brewing - ECPv6.15.20//NONSGML v1.0//EN
CALSCALE:GREGORIAN
METHOD:PUBLISH
X-WR-CALNAME:Prairie Dog Brewing
X-ORIGINAL-URL:https://prairiedog.bbq.beer
X-WR-CALDESC:Events for Prairie Dog Brewing
REFRESH-INTERVAL;VALUE=DURATION:PT1H
X-Robots-Tag:noindex
X-PUBLISHED-TTL:PT1H
BEGIN:VTIMEZONE
TZID:America/Edmonton
BEGIN:DAYLIGHT
TZOFFSETFROM:-0700
TZOFFSETTO:-0600
TZNAME:MDT
DTSTART:20240310T090000
END:DAYLIGHT
BEGIN:STANDARD
TZOFFSETFROM:-0600
TZOFFSETTO:-0700
TZNAME:MST
DTSTART:20241103T080000
END:STANDARD
BEGIN:DAYLIGHT
TZOFFSETFROM:-0700
TZOFFSETTO:-0600
TZNAME:MDT
DTSTART:20250309T090000
END:DAYLIGHT
BEGIN:STANDARD
TZOFFSETFROM:-0600
TZOFFSETTO:-0700
TZNAME:MST
DTSTART:20251102T080000
END:STANDARD
BEGIN:DAYLIGHT
TZOFFSETFROM:-0700
TZOFFSETTO:-0600
TZNAME:MDT
DTSTART:20260308T090000
END:DAYLIGHT
BEGIN:STANDARD
TZOFFSETFROM:-0600
TZOFFSETTO:-0700
TZNAME:MST
DTSTART:20261101T080000
END:STANDARD
BEGIN:DAYLIGHT
TZOFFSETFROM:-0700
TZOFFSETTO:-0600
TZNAME:MDT
DTSTART:20270314T090000
END:DAYLIGHT
BEGIN:STANDARD
TZOFFSETFROM:-0600
TZOFFSETTO:-0700
TZNAME:MST
DTSTART:20271107T080000
END:STANDARD
END:VTIMEZONE
BEGIN:VEVENT
DTSTART;TZID=America/Edmonton:20251231T190000
DTEND;TZID=America/Edmonton:20260101T010000
DTSTAMP:20260421T084801
CREATED:20251209T192459Z
LAST-MODIFIED:20251209T192459Z
UID:10000445-1767207600-1767229200@prairiedog.bbq.beer
SUMMARY:New Year's Eve at Prairie Dog Brewing
DESCRIPTION:Welcome to WILDCARD NYE At Prairie Dog Brewing! Join us on December 31\, 2025 at 7:00 PM for a night to remember! Let’s toast to new beginnings\, good times\, and great beer. Don’t miss out on the fun and excitement as we countdown to midnight. \nYou’ll begin your evening with a four course meal expertly created by our kitchen team\, then get your groove on with Calgary’s party band WildCard starting at 9:00pm. The evening also includes a build your own late night poutine bar! \nDate: December 31\, 2025 with seatings at 7:00pm\, 7:30pm and 8:00pm \nComing out with your besties? We encourage you to order your tickets all together so we can seat you all together – Groups of 8 or more who purchase on one order will get a complimentary bottle of bubbles for your table! \n*While we will do our best\, we cannot guarantee seating together for groups who purchase tickets individually. \n*Dance only tickets valid after 9:00pm and does not guarantee seating.
URL:https://prairiedog.bbq.beer/event/new-years-eve-at-prairie-dog-brewing/
LOCATION:Prairie Dog Brewpub – Calgary Chinook\, 105D 58 Ave SE\, Calgary\, AB\, T2H 0N8\, Canada
CATEGORIES:In-Pub Entertainment,Live Music
ATTACH;FMTTYPE=image/png:https://prairiedog.bbq.beer/wp-content/uploads/2025/12/NYE-At-Prairie-Dog-Brewing.png
ORGANIZER;CN="Prairie Dog Brewing Events Team":MAILTO:events@prairiedogbrewing.ca
END:VEVENT
BEGIN:VEVENT
DTSTART;TZID=America/Edmonton:20260123T180000
DTEND;TZID=America/Edmonton:20260123T233000
DTSTAMP:20260421T084801
CREATED:20260116T181600Z
LAST-MODIFIED:20260116T181628Z
UID:10000462-1769191200-1769211000@prairiedog.bbq.beer
SUMMARY:Closed Early for U18AA Bruins Comedy Night Fundraiser
DESCRIPTION:We’ll be closing early Friday January 23rd (Closed at 5:30pm – last call at 4:30) to support a Private Comedy Night Fundraiser for the U18AA Bruins hockey team. We’re sorry for any inconvenience.
URL:https://prairiedog.bbq.beer/event/closed-early-for-u18aa-bruins-comedy-night-fundraiser/
LOCATION:AB
CATEGORIES:Brewpub Closures
ATTACH;FMTTYPE=image/png:https://prairiedog.bbq.beer/wp-content/uploads/2025/09/Closed-for-a-private-function.png
END:VEVENT
BEGIN:VEVENT
DTSTART;TZID=America/Edmonton:20260131T190000
DTEND;TZID=America/Edmonton:20260131T233000
DTSTAMP:20260421T084801
CREATED:20260116T175911Z
LAST-MODIFIED:20260130T175855Z
UID:10000432-1769886000-1769902200@prairiedog.bbq.beer
SUMMARY:3rd Annual Rocking With Mito
DESCRIPTION:Come join us for a rocking night of live music with an amazing auction and of course FUN. \nAuction items include the ultimate sports weekend in Toronto\, Flight\, hotel stay and concert tickets to Ed Sheeren in Toronto\, Lady Gaga in Minneapolis\, signed music and sports memorabilia\, and so much more!  \nLate night poutine bar is included with your ticket. \nCome for dinner between 5:00 and 7:00pm and get 15% off your meal.  \nDon’t miss out on this opportunity to have a great time with friends and support MitoCanada . See you there! \nCheck out our great lineup of events coming up: https://prairiedog.bbq.beer/events/
URL:https://prairiedog.bbq.beer/event/rocking-with-mito-2/
LOCATION:Prairie Dog Brewpub – Calgary Chinook\, 105D 58 Ave SE\, Calgary\, AB\, T2H 0N8\, Canada
CATEGORIES:In-Pub Entertainment,Live Music
ATTACH;FMTTYPE=image/avif:https://prairiedog.bbq.beer/wp-content/uploads/2025/04/https___cdn.evbuc.com_images_982569193_1428604364543_1_original.avif
ORGANIZER;CN="Prairie Dog Brewing Events Team":MAILTO:events@prairiedogbrewing.ca
END:VEVENT
END:VCALENDAR