BEGIN:VCALENDAR
VERSION:2.0
PRODID:-//Prairie Dog Brewing - ECPv6.15.20//NONSGML v1.0//EN
CALSCALE:GREGORIAN
METHOD:PUBLISH
X-ORIGINAL-URL:https://prairiedog.bbq.beer
X-WR-CALDESC:Events for Prairie Dog Brewing
REFRESH-INTERVAL;VALUE=DURATION:PT1H
X-Robots-Tag:noindex
X-PUBLISHED-TTL:PT1H
BEGIN:VTIMEZONE
TZID:America/Edmonton
BEGIN:DAYLIGHT
TZOFFSETFROM:-0700
TZOFFSETTO:-0600
TZNAME:MDT
DTSTART:20250309T090000
END:DAYLIGHT
BEGIN:STANDARD
TZOFFSETFROM:-0600
TZOFFSETTO:-0700
TZNAME:MST
DTSTART:20251102T080000
END:STANDARD
BEGIN:DAYLIGHT
TZOFFSETFROM:-0700
TZOFFSETTO:-0600
TZNAME:MDT
DTSTART:20260308T090000
END:DAYLIGHT
BEGIN:STANDARD
TZOFFSETFROM:-0600
TZOFFSETTO:-0700
TZNAME:MST
DTSTART:20261101T080000
END:STANDARD
BEGIN:DAYLIGHT
TZOFFSETFROM:-0700
TZOFFSETTO:-0600
TZNAME:MDT
DTSTART:20270314T090000
END:DAYLIGHT
BEGIN:STANDARD
TZOFFSETFROM:-0600
TZOFFSETTO:-0700
TZNAME:MST
DTSTART:20271107T080000
END:STANDARD
END:VTIMEZONE
BEGIN:VEVENT
DTSTART;TZID=America/Edmonton:20260207T140000
DTEND;TZID=America/Edmonton:20260207T173000
DTSTAMP:20260419T230733
CREATED:20260129T223654Z
LAST-MODIFIED:20260206T063558Z
UID:10000485-1770472800-1770485400@prairiedog.bbq.beer
SUMMARY:Chinook School of Music - Adult Jazz and Rock Bands
DESCRIPTION:Join us at Prairie Dog Brewing for an afternoon of live music featuring the Chinook School of Music Adult Jazz Combo and Adult Rock Band! Enjoy smooth jazz grooves\, bold improvisation\, and classic standards\, followed by high-energy rock performances packed with powerful vocals and crowd-pleasing tunes. These talented adult musicians bring passion\, skill\, and serious stage presence\, making this the perfect soundtrack for a fun\, upbeat afternoon of great music\, craft beer\, and good company. \nCheck out our great lineup of events coming up: https://prairiedog.bbq.beer/events/
URL:https://prairiedog.bbq.beer/event/chinook-school-of-music-adult-jazz-and-rock-bands/
LOCATION:Prairie Dog Brewpub – Calgary Chinook\, 105D 58 Ave SE\, Calgary\, AB\, T2H 0N8\, Canada
CATEGORIES:In-Pub Entertainment,Live Music
ATTACH;FMTTYPE=image/png:https://prairiedog.bbq.beer/wp-content/uploads/2026/01/Adult-Jazz-and-Rock-Band-Poster.png
ORGANIZER;CN="Prairie Dog Brewing Events Team":MAILTO:events@prairiedogbrewing.ca
END:VEVENT
BEGIN:VEVENT
DTSTART;TZID=America/Edmonton:20260211T183000
DTEND;TZID=America/Edmonton:20260211T203000
DTSTAMP:20260419T230733
CREATED:20260129T212008Z
LAST-MODIFIED:20260130T174313Z
UID:10000481-1770834600-1770841800@prairiedog.bbq.beer
SUMMARY:Chinook School of Music - Indie Performance Program
DESCRIPTION:Experience the next generation of vocal talent! Join us for a special live performance featuring young singers from the Chinook School of Music Indie Performance Program. These 11–14 year old performers bring fresh energy and big voices to classic songs and fan-favourite covers in a fun\, relaxed setting. Enjoy great music\, support rising stars\, and soak up the community vibe with friends and family at Prairie Dog Brewing. \nCheck out our great lineup of events coming up: https://prairiedog.bbq.beer/events/
URL:https://prairiedog.bbq.beer/event/chinook-school-of-music-indie-performance-program/
LOCATION:Prairie Dog Brewpub – Calgary Chinook\, 105D 58 Ave SE\, Calgary\, AB\, T2H 0N8\, Canada
CATEGORIES:In-Pub Entertainment,Live Music
ATTACH;FMTTYPE=image/jpeg:https://prairiedog.bbq.beer/wp-content/uploads/2026/01/Chinook-School-of-Music-Indie-Performance-Program-.jpg
ORGANIZER;CN="Prairie Dog Brewing Events Team":MAILTO:events@prairiedogbrewing.ca
END:VEVENT
END:VCALENDAR