BEGIN:VCALENDAR
VERSION:2.0
PRODID:-//Prairie Dog Brewing - ECPv6.15.20//NONSGML v1.0//EN
CALSCALE:GREGORIAN
METHOD:PUBLISH
X-ORIGINAL-URL:https://prairiedog.bbq.beer
X-WR-CALDESC:Events for Prairie Dog Brewing
REFRESH-INTERVAL;VALUE=DURATION:PT1H
X-Robots-Tag:noindex
X-PUBLISHED-TTL:PT1H
BEGIN:VTIMEZONE
TZID:America/Edmonton
BEGIN:DAYLIGHT
TZOFFSETFROM:-0700
TZOFFSETTO:-0600
TZNAME:MDT
DTSTART:20250309T090000
END:DAYLIGHT
BEGIN:STANDARD
TZOFFSETFROM:-0600
TZOFFSETTO:-0700
TZNAME:MST
DTSTART:20251102T080000
END:STANDARD
BEGIN:DAYLIGHT
TZOFFSETFROM:-0700
TZOFFSETTO:-0600
TZNAME:MDT
DTSTART:20260308T090000
END:DAYLIGHT
BEGIN:STANDARD
TZOFFSETFROM:-0600
TZOFFSETTO:-0700
TZNAME:MST
DTSTART:20261101T080000
END:STANDARD
BEGIN:DAYLIGHT
TZOFFSETFROM:-0700
TZOFFSETTO:-0600
TZNAME:MDT
DTSTART:20270314T090000
END:DAYLIGHT
BEGIN:STANDARD
TZOFFSETFROM:-0600
TZOFFSETTO:-0700
TZNAME:MST
DTSTART:20271107T080000
END:STANDARD
END:VTIMEZONE
BEGIN:VEVENT
DTSTART;TZID=America/Edmonton:20260305T170000
DTEND;TZID=America/Edmonton:20260305T230000
DTSTAMP:20260422T044742
CREATED:20260303T192415Z
LAST-MODIFIED:20260303T192841Z
UID:10000496-1772730000-1772751600@prairiedog.bbq.beer
SUMMARY:Closed Early - Builders & Brews Private Event
DESCRIPTION:We will be closed to regular walkin guests at 4:30pm for this ticketed Private event.  \nFrom Builders and Brews: Our first Flagship of 2026! \nOur industry has a common problem: We’ve got a generation of veterans heading for retirement\, taking 30+ years of hard-won knowledge out the door with them. On the other side\, we have a wave of young people entering the trades\, told that construction is the place to be\, but lacking a bridge to that experience. \nThen there’s the rest of us in the middle—and probably most of you reading this! We’re out here running businesses\, watching the experience of our predecessors leave and the shiny new people arrive\, wondering what this industry is actually going to look like in 10 or 15 years. To figure this out as a community\, we’ll be moderating a panel that brings all these perspectives together: \nThe Legacy: **TRICKY WORDING DISCLAIMER** We have the most respect for those that have been doing this the longest. It’s a testament to their resilience\,…
URL:https://prairiedog.bbq.beer/event/closed-early-builders-brews-private-event/
LOCATION:Prairie Dog Brewpub – Calgary Chinook\, 105D 58 Ave SE\, Calgary\, AB\, T2H 0N8\, Canada
CATEGORIES:Brewpub Closures
ATTACH;FMTTYPE=image/png:https://prairiedog.bbq.beer/wp-content/uploads/2025/09/Closed-for-a-private-function-1.png
ORGANIZER;CN="Prairie Dog Brewing Events Team":MAILTO:events@prairiedogbrewing.ca
END:VEVENT
BEGIN:VEVENT
DTSTART;TZID=America/Edmonton:20260318T190000
DTEND;TZID=America/Edmonton:20260318T213000
DTSTAMP:20260422T044742
CREATED:20260128T193456Z
LAST-MODIFIED:20260128T193456Z
UID:10000477-1773860400-1773869400@prairiedog.bbq.beer
SUMMARY:Flies & Foam - Streamer Season with Fish Tales Fly Shop
DESCRIPTION:Join us for Flies & Foam\, a laid-back winter fly-tying series hosted at Prairie Dog Brewing in partnership with Fish Tales Fly Shop! Bring your vice or just your curiosity for an evening of tying\, learning\, sharing tips\, and swapping stories with fellow anglers.\nAt this event\, celebrate the waters turning “streamer green” with an evening focused on powerful streamer patterns. We’ll tie a selection of favourites that fish can’t resist when the big bite calls. Come thirsty and ready for tips and laughs.\nTickets include a materials kit and a $9 Prairie Dog Brewing food or drink credit — share a pint\, craft some flies\, and meet other fly fishers in a fun\, welcoming setting! \nWho it’s for: All levels welcome! Tyers bring their tools; beginners are encouraged. Non-tyers can come too (ticket includes space & social time).\nWhen: Tying begins at 7 pm — doors open earlier if you want to grab a drink or bite first.\nPerks: Each event includes a $9 food or beverage credit at Prairie Dog Brewing — tie flies\, enjoy a pint\, and meet new fishing friends!
URL:https://prairiedog.bbq.beer/event/flies-foam-streamer-season-with-fish-tales-fly-shop/
LOCATION:Prairie Dog Brewpub – Calgary Chinook\, 105D 58 Ave SE\, Calgary\, AB\, T2H 0N8\, Canada
CATEGORIES:Educational Workshops,In-Pub Entertainment,Partner Workshops
ATTACH;FMTTYPE=image/jpeg:https://prairiedog.bbq.beer/wp-content/uploads/2026/01/flies_and_foam_registration_streamer_season_mar_18_2026.jpg
ORGANIZER;CN="Prairie Dog Brewing Events Team":MAILTO:events@prairiedogbrewing.ca
END:VEVENT
END:VCALENDAR