BEGIN:VCALENDAR
VERSION:2.0
PRODID:-//Prairie Dog Brewing - ECPv6.15.20//NONSGML v1.0//EN
CALSCALE:GREGORIAN
METHOD:PUBLISH
X-WR-CALNAME:Prairie Dog Brewing
X-ORIGINAL-URL:https://prairiedog.bbq.beer
X-WR-CALDESC:Events for Prairie Dog Brewing
REFRESH-INTERVAL;VALUE=DURATION:PT1H
X-Robots-Tag:noindex
X-PUBLISHED-TTL:PT1H
BEGIN:VTIMEZONE
TZID:America/Edmonton
BEGIN:DAYLIGHT
TZOFFSETFROM:-0700
TZOFFSETTO:-0600
TZNAME:MDT
DTSTART:20240310T090000
END:DAYLIGHT
BEGIN:STANDARD
TZOFFSETFROM:-0600
TZOFFSETTO:-0700
TZNAME:MST
DTSTART:20241103T080000
END:STANDARD
BEGIN:DAYLIGHT
TZOFFSETFROM:-0700
TZOFFSETTO:-0600
TZNAME:MDT
DTSTART:20250309T090000
END:DAYLIGHT
BEGIN:STANDARD
TZOFFSETFROM:-0600
TZOFFSETTO:-0700
TZNAME:MST
DTSTART:20251102T080000
END:STANDARD
BEGIN:DAYLIGHT
TZOFFSETFROM:-0700
TZOFFSETTO:-0600
TZNAME:MDT
DTSTART:20260308T090000
END:DAYLIGHT
BEGIN:STANDARD
TZOFFSETFROM:-0600
TZOFFSETTO:-0700
TZNAME:MST
DTSTART:20261101T080000
END:STANDARD
END:VTIMEZONE
BEGIN:VEVENT
DTSTART;TZID=America/Edmonton:20250906T170000
DTEND;TZID=America/Edmonton:20250906T200000
DTSTAMP:20260424T010342
CREATED:20250905T160238Z
LAST-MODIFIED:20250905T160238Z
UID:10000413-1757178000-1757188800@prairiedog.bbq.beer
SUMMARY:Kidney-O-Kee - A Karaoke fundraising night
DESCRIPTION:Come sing your heart out for a great cause! Calgary’s Kidney March is hosting a fun evening from 5:00pm to 8:00pm with karaoke! Open to everyone. \nDon’t miss out on delicious food at Prairie Dog Brewing and Kidney-O-Kee to celebrate your Kidney March 2025! This part of Day Zero is more than just fun—it’s a chance to connect\, laugh\, and enrich our community. Start your Kidney March weekend with great vibes and even better company.  \nEveryone is welcome even if you are not marching in the kidney march. You can show your support by donating here: https://kidneymarch.ca/donate/ \nTo check out all of our upcoming music and events head to https://prairiedog.bbq.beer/events/
URL:https://prairiedog.bbq.beer/event/kidney-o-kee-a-karaoke-fundraising-night/
LOCATION:AB
CATEGORIES:In-Pub Entertainment
ATTACH;FMTTYPE=image/png:https://prairiedog.bbq.beer/wp-content/uploads/2025/09/Kidney-o-kee-Night_FB.png
END:VEVENT
BEGIN:VEVENT
DTSTART;TZID=America/Edmonton:20250918T160000
DTEND;TZID=America/Edmonton:20250918T223000
DTSTAMP:20260424T010342
CREATED:20250905T170815Z
LAST-MODIFIED:20250909T195735Z
UID:10000417-1758211200-1758234600@prairiedog.bbq.beer
SUMMARY:Builder's and Brews - PRIVATE EVENT
DESCRIPTION:We will be closed to the public this evening for a Builder’s And Brews Event.
URL:https://prairiedog.bbq.beer/event/builders-and-brews-private-event/
LOCATION:Prairie Dog Brewpub – Calgary Chinook\, 105D 58 Ave SE\, Calgary\, AB\, T2H 0N8\, Canada
CATEGORIES:Brewpub Closures
ATTACH;FMTTYPE=image/png:https://prairiedog.bbq.beer/wp-content/uploads/2025/09/Closed-for-a-private-function.png
ORGANIZER;CN="Prairie Dog Brewing Events Team":MAILTO:events@prairiedogbrewing.ca
END:VEVENT
BEGIN:VEVENT
DTSTART;TZID=America/Edmonton:20250923T130000
DTEND;TZID=America/Edmonton:20250923T170000
DTSTAMP:20260424T010342
CREATED:20250905T170219Z
LAST-MODIFIED:20250905T170219Z
UID:10000416-1758632400-1758646800@prairiedog.bbq.beer
SUMMARY:Beer Soap Making with Bowness Soapworks
DESCRIPTION:Indulge in making your own traditional cold processed beer soap with Prairie Dog Brewing and Calgary’s famous adventure soap company for a unique soap making event. DIY soap is the perfect self indulgent activity OR they also make the perfect gift *Ahem* gift giving season is almost here!  \nLearn the basics of traditional cold process soap making\, while exploring your own creative side. \n– Take home approximately 1lb of soap / to complete curing process at home.\n– Guests will receive $10 gift card to Prairie Dog Brewing  \n Get your tickets today  \nSafety materials will be provided *PPE\, safety glasses\, gloves. \n*Minimum 6 registered guests for workshops to run- events will be cancelled in the case of less than 6 registered guests \n*must be minimum 18 years old to participate. \n**24hr cancellation policy for full refund.  \n***Guests must wear long sleeves\, pants and closed toe shoes. We reserve the right to refuse attendance if participants do not arrive in required attire. \nTo find all the workshops and fun activities happening at Prairie Dog Brewing check out our events page
URL:https://prairiedog.bbq.beer/event/beer-soap-making-with-bowness-soapworks/
LOCATION:Prairie Dog Brewpub – Calgary Chinook\, 105D 58 Ave SE\, Calgary\, AB\, T2H 0N8\, Canada
CATEGORIES:Educational Workshops,In-Pub Entertainment
ATTACH;FMTTYPE=image/webp:https://prairiedog.bbq.beer/wp-content/uploads/2025/09/bowness-soapworks-two.webp
ORGANIZER;CN="Prairie Dog Brewing Events Team":MAILTO:events@prairiedogbrewing.ca
END:VEVENT
END:VCALENDAR